BEGIN:VCALENDAR
VERSION:2.0
PRODID:-//www.insightmcc.org//NONSGML kigkonsult.se iCalcreator 2.30.10//
CALSCALE:GREGORIAN
METHOD:PUBLISH
UID:ef843407-fc53-4f73-a238-c2567c77f173
X-WR-CALDESC:Did you know that Parkinson’s is the fastest growing neurologi
 cal disease? Get your top questions about Parkinson’s answered. Learn abou
 t the basic science of Parkinson’s\, typical and atypical symptoms\, the c
 onnection to dementia\, and the latest treatment options that are currentl
 y available.\n\nThis program is presented by the Insight Memory Care Team 
 at The Kensington Reston.
X-WR-RELCALID:a7a0a4971a437607d2f5d1420828bae2
X-WR-TIMEZONE:America/New_York
BEGIN:VTIMEZONE
TZID:America/New_York
BEGIN:STANDARD
TZNAME:EST
DTSTART:20221106T020000
TZOFFSETFROM:-0400
TZOFFSETTO:-0500
RDATE:20231105T020000
RDATE:20241103T020000
END:STANDARD
BEGIN:DAYLIGHT
TZNAME:EDT
DTSTART:20230312T020000
TZOFFSETFROM:-0500
TZOFFSETTO:-0400
RDATE:20240310T020000
END:DAYLIGHT
END:VTIMEZONE
BEGIN:VEVENT
UID:99b7656e-c121-4370-8a42-ebe16a458c17
DTSTAMP:20260422T023933Z
DESCRIPTION:Did you know that Parkinson’s is the fastest growing neurologic
 al disease? Get your top questions about Parkinson’s answered. Learn about
  the basic science of Parkinson’s\, typical and atypical symptoms\, the co
 nnection to dementia\, and the latest treatment options that are currently
  available.\n\nThis program is presented by the Insight Memory Care Team a
 t The Kensington Reston.
DTSTART;TZID=America/New_York:20230823T180000
DTEND;TZID=America/New_York:20230823T190000
LOCATION:The Kensington Reston\, 11501 Sunrise Valley Dr\, Reston\, VA 2019
 1 US
SUMMARY:Parkinson's Dementia
END:VEVENT
END:VCALENDAR
