BEGIN:VCALENDAR
VERSION:2.0
PRODID:-//www.insightmcc.org//NONSGML kigkonsult.se iCalcreator 2.30.10//
CALSCALE:GREGORIAN
METHOD:PUBLISH
UID:6d54bff0-9cce-414f-832d-455c33ba69fd
X-WR-CALDESC:Learn more about age-related changes in memory and learning\, 
 and practices to keep your brain sharp! Learn what to expect\, what’s “nor
 mal\,” and when it’s time to seek a doctor’s input.\n\nThis program is pre
 sented by the Insight Memory Care Team at Falcons Landing Senior Living.
X-WR-RELCALID:80366c49f55eaf08038f1171f0bc4fd9
X-WR-TIMEZONE:America/New_York
BEGIN:VTIMEZONE
TZID:America/New_York
BEGIN:STANDARD
TZNAME:EST
DTSTART:20221106T020000
TZOFFSETFROM:-0400
TZOFFSETTO:-0500
RDATE:20231105T020000
RDATE:20241103T020000
END:STANDARD
BEGIN:DAYLIGHT
TZNAME:EDT
DTSTART:20230312T020000
TZOFFSETFROM:-0500
TZOFFSETTO:-0400
RDATE:20240310T020000
END:DAYLIGHT
END:VTIMEZONE
BEGIN:VEVENT
UID:9f78b5db-f227-45de-ab92-6df502ccc545
DTSTAMP:20260422T023739Z
DESCRIPTION:Learn more about age-related changes in memory and learning\, a
 nd practices to keep your brain sharp! Learn what to expect\, what’s “norm
 al\,” and when it’s time to seek a doctor’s input.\n\nThis program is pres
 ented by the Insight Memory Care Team at Falcons Landing Senior Living.
DTSTART;TZID=America/New_York:20230828T140000
DTEND;TZID=America/New_York:20230828T150000
LOCATION:Falcons Landing\, 20522 Falcons Landing Cir\, Sterling\, VA 20165 
 US
SUMMARY:Better Brain Health
END:VEVENT
END:VCALENDAR
