BEGIN:VCALENDAR
VERSION:2.0
PRODID:-//www.insightmcc.org//NONSGML kigkonsult.se iCalcreator 2.30.10//
CALSCALE:GREGORIAN
METHOD:PUBLISH
UID:3638e6c4-224b-4982-ba6e-a88e70645f98
X-WR-CALDESC:You’ve seen the signs – gradual memory loss\, struggle to find
  words\, unusual behaviors or worsening medical conditions. Now you have a
  formal diagnosis that you or your loved one has Mild Cognitive Impairment
  (MCI). What do you do?\n\nAfter an official diagnosis\, oftentimes\, conf
 usion\, overwhelm and conflicting opinions can get families stuck before t
 hey even get started in the process of finding help. This in-person progra
 m is presented by Melissa Long\, Director of Education and Support at Insi
 ght Memory Care Center.\n\nDuring this presentation\, Melissa will share h
 er top tips and tools for what to do when you or your loved one has receiv
 ed an MCI diagnosis. From recognizing the early signs to planning ahead fo
 r long-term care\, learn how to begin the journey.\n
X-WR-RELCALID:54cd0ac90a6d76d17788fff0a51bb316
X-WR-TIMEZONE:America/New_York
BEGIN:VTIMEZONE
TZID:America/New_York
BEGIN:STANDARD
TZNAME:EST
DTSTART:20221106T020000
TZOFFSETFROM:-0400
TZOFFSETTO:-0500
RDATE:20231105T020000
RDATE:20241103T020000
END:STANDARD
BEGIN:DAYLIGHT
TZNAME:EDT
DTSTART:20230312T020000
TZOFFSETFROM:-0500
TZOFFSETTO:-0400
RDATE:20240310T020000
END:DAYLIGHT
END:VTIMEZONE
BEGIN:VEVENT
UID:202e5f55-bcf5-4088-bd7e-fccce101bcf9
DTSTAMP:20260422T011522Z
DESCRIPTION:You’ve seen the signs – gradual memory loss\, struggle to find 
 words\, unusual behaviors or worsening medical conditions. Now you have a 
 formal diagnosis that you or your loved one has Mild Cognitive Impairment 
 (MCI). What do you do?\n\nAfter an official diagnosis\, oftentimes\, confu
 sion\, overwhelm and conflicting opinions can get families stuck before th
 ey even get started in the process of finding help. This in-person program
  is presented by Melissa Long\, Director of Education and Support at Insig
 ht Memory Care Center.\n\nDuring this presentation\, Melissa will share he
 r top tips and tools for what to do when you or your loved one has receive
 d an MCI diagnosis. From recognizing the early signs to planning ahead for
  long-term care\, learn how to begin the journey.\n
DTSTART;TZID=America/New_York:20230907T180000
DTEND;TZID=America/New_York:20230907T190000
LOCATION:The Kensington Falls Church\, 700 West Broad Street\, Falls Church
 \, VA 22046 US
SUMMARY:My Loved One Has Been Diagnosed with Mild Cognitive Impairment... N
 ow What?
END:VEVENT
END:VCALENDAR
