BEGIN:VCALENDAR
VERSION:2.0
PRODID:-//www.insightmcc.org//NONSGML kigkonsult.se iCalcreator 2.30.10//
CALSCALE:GREGORIAN
METHOD:PUBLISH
UID:ec38209b-4d06-4132-8bd6-f76e4a0203bb
X-WR-CALDESC:Please join Supervisor Dan Storck and Neighborhood and Communi
 ty Services to learn about senior resources in Fairfax County.\n\nSchedule
 :\n\nExhibit Hall: 10:00 – 11:30 a.m.\, featuring a variety of County agen
 cies\, service providers and more!\n\nLunch & Presentations: 11:30 a.m.-1:
 30 p.m.\n\nRaffle tickets will be handed out during check in and you must 
 be present during the presentations to win.\n\nRegistration is appreciated
  but not required.
X-WR-RELCALID:a7e1c49c57abbca284eebfece8742e19
X-WR-TIMEZONE:America/New_York
BEGIN:VTIMEZONE
TZID:America/New_York
BEGIN:STANDARD
TZNAME:EST
DTSTART:20221106T020000
TZOFFSETFROM:-0400
TZOFFSETTO:-0500
RDATE:20231105T020000
RDATE:20241103T020000
END:STANDARD
BEGIN:DAYLIGHT
TZNAME:EDT
DTSTART:20230312T020000
TZOFFSETFROM:-0500
TZOFFSETTO:-0400
RDATE:20240310T020000
RDATE:20250309T020000
END:DAYLIGHT
END:VTIMEZONE
BEGIN:VEVENT
UID:0daa3669-0279-46d0-a375-bebd15e72b28
DTSTAMP:20260422T010721Z
DESCRIPTION:Please join Supervisor Dan Storck and Neighborhood and Communit
 y Services to learn about senior resources in Fairfax County.\n\nSchedule:
 \n\nExhibit Hall: 10:00 – 11:30 a.m.\, featuring a variety of County agenc
 ies\, service providers and more!\n\nLunch & Presentations: 11:30 a.m.-1:3
 0 p.m.\n\nRaffle tickets will be handed out during check in and you must b
 e present during the presentations to win.\n\nRegistration is appreciated 
 but not required.
DTSTART;TZID=America/New_York:20230913T100000
DTEND;TZID=America/New_York:20230913T133000
LOCATION:Lorton Community Center\, 9520 Richmond Hwy\, Lorton\, VA 22079 US
SUMMARY:5th Annual Senior Safety Summit
END:VEVENT
END:VCALENDAR
