BEGIN:VCALENDAR
VERSION:2.0
PRODID:-//www.insightmcc.org//NONSGML kigkonsult.se iCalcreator 2.30.10//
CALSCALE:GREGORIAN
METHOD:PUBLISH
UID:ebcca549-c260-42a8-9bd6-394c8ac8e35b
X-WR-CALDESC:Join our September meeting at Burke Lake Park for an afternoon
  of fresh air and connection! Meet by the Ice Cream Parlor at 11:30 and br
 ing a favorite sack lunch. We will kick off the afternoon with a leisurely
  walk by the lake followed by a picnic.\n\n&nbsp\;\n<strong><a href='https
 ://insightmemory.app.neoncrm.com/eventReg.jsp?event=1045&' class='button'>
 Sign Me Up!</a></strong>\n\n&nbsp\;\n<strong>Connect with those who've bee
 n on a similar journey.</strong>\nFriends of Insight members stay engaged 
 through social events and give back to Insight through advocacy. Many grou
 p members are families that had a loved one with a memory impairment or ha
 ve a connection to Insight’s programs. Friends of Insight meet regularly t
 o discuss current ways to help out and catch up with Insight friends. Addi
 tionally\, we plan social events to have fun and stay connected!\n\nFriend
 s of Insight meetings will be held every other month on the 2nd Wednesday 
 at 11:30am. Please contact Ben if you're interested in joining!
X-WR-RELCALID:68166c79cd7ba5a82d03fe8650a88dbf
X-WR-TIMEZONE:America/New_York
BEGIN:VTIMEZONE
TZID:America/New_York
BEGIN:STANDARD
TZNAME:EST
DTSTART:20221106T020000
TZOFFSETFROM:-0400
TZOFFSETTO:-0500
RDATE:20231105T020000
RDATE:20241103T020000
END:STANDARD
BEGIN:DAYLIGHT
TZNAME:EDT
DTSTART:20230312T020000
TZOFFSETFROM:-0500
TZOFFSETTO:-0400
RDATE:20240310T020000
RDATE:20250309T020000
END:DAYLIGHT
END:VTIMEZONE
BEGIN:VEVENT
UID:680d5584-ab85-43b8-93a1-a4ddb803d2c5
DTSTAMP:20260422T011114Z
DESCRIPTION:Join our September meeting at Burke Lake Park for an afternoon 
 of fresh air and connection! Meet by the Ice Cream Parlor at 11:30 and bri
 ng a favorite sack lunch. We will kick off the afternoon with a leisurely 
 walk by the lake followed by a picnic.\n\n&nbsp\;\n<strong><a href='https:
 //insightmemory.app.neoncrm.com/eventReg.jsp?event=1045&' class='button'>S
 ign Me Up!</a></strong>\n\n&nbsp\;\n<strong>Connect with those who've been
  on a similar journey.</strong>\nFriends of Insight members stay engaged t
 hrough social events and give back to Insight through advocacy. Many group
  members are families that had a loved one with a memory impairment or hav
 e a connection to Insight’s programs. Friends of Insight meet regularly to
  discuss current ways to help out and catch up with Insight friends. Addit
 ionally\, we plan social events to have fun and stay connected!\n\nFriends
  of Insight meetings will be held every other month on the 2nd Wednesday a
 t 11:30am. Please contact Ben if you're interested in joining!
DTSTART;TZID=America/New_York:20230913T113000
DTEND;TZID=America/New_York:20230913T123000
LOCATION:Burke Lake Park\, 7315 Ox Rd\, Fairfax Station\, VA 22039 US
SUMMARY:Friends of Insight Meeting
END:VEVENT
END:VCALENDAR
