BEGIN:VCALENDAR
VERSION:2.0
PRODID:-//www.insightmcc.org//NONSGML kigkonsult.se iCalcreator 2.30.10//
CALSCALE:GREGORIAN
METHOD:PUBLISH
UID:f4ad32ff-da39-419d-ae65-4832887e023f
X-WR-CALDESC:What is frontotemporal degeneration (FTD)? Did you know it is 
 the most common form of dementia for people under the age of 60? Learn mor
 e about FTD\, including the signs and symptoms\, how it differs from other
  dementias\, and the resources available locally and through AFTD.\n\n<str
 ong>This class will be held both virtually and in-person in Fairfax.</stro
 ng> Please select your attendance type when you register. <ul><li>In-perso
 n attendance in Fairfax is limited to 20 participants. The session will be
  held in the Mazawey Education and Support Center\, 3955 Pender Drive\, Su
 ite 100\, Fairfax\, VA 22030 (<a href='https://www.insightmcc.org/about-in
 sight-memory-care-center/locations/directions.html'>directions</a>).</li><
 /ul>\n<ul><li>Virtual attendees will receive Zoom information prior to the
  class.</li></ul>\n\n\nThis program is a part of our monthly Care Partner 
 Training series. All sessions are FREE\, and held the second Wednesday of 
 each month from 1:00 to 2:30 pm.\n\n<strong>Presenter</strong>\n<em>Esther
  Kane\, MSN\, RN-CDP\, The Association for Frontotemporal Degeneration</em
 >\nEsther joined AFTD as its Director of Support & Education in November 2
 020. Previously\, Esther served as Director of Wellness at CareOne Managem
 ent\, a company that provides elder-care services throughout the Northeast
  United States. She brings clinical\, educational\, managerial\, and marke
 ting skills along with a passion for quality care for those who are living
  with neurological conditions. Her work reflects a strong commitment to th
 e importance of education and training throughout the spectrum of diagnosi
 s and delivery of quality care. In her role\, Esther will ensure that AFTD
 ’s support services and educational programs advance early diagnosis and i
 mprove access to quality care and effective support\, as well as ensure th
 at clinical information provided to healthcare professionals and the AFTD 
 community is current and accurate.\n\n&nbsp\;\n<strong><a href='https://in
 sightmemory.app.neoncrm.com/eventReg.jsp?event=894&' class='button'>Sign M
 e Up - In Person</a></strong>\n\n<strong><a href='https://insightmemory.ap
 p.neoncrm.com/eventReg.jsp?event=899&' class='button'>Sign Me Up - Virtual
 </a></strong>
X-WR-RELCALID:4469b6b3e3125150189c26226a2ef77f
X-WR-TIMEZONE:America/New_York
BEGIN:VTIMEZONE
TZID:America/New_York
BEGIN:STANDARD
TZNAME:EST
DTSTART:20221106T020000
TZOFFSETFROM:-0400
TZOFFSETTO:-0500
RDATE:20231105T020000
RDATE:20241103T020000
END:STANDARD
BEGIN:DAYLIGHT
TZNAME:EDT
DTSTART:20230312T020000
TZOFFSETFROM:-0500
TZOFFSETTO:-0400
RDATE:20240310T020000
RDATE:20250309T020000
END:DAYLIGHT
END:VTIMEZONE
BEGIN:VEVENT
UID:9293b77a-6c0b-44bd-8996-202e5a8d8f00
DTSTAMP:20260422T010508Z
DESCRIPTION:What is frontotemporal degeneration (FTD)? Did you know it is t
 he most common form of dementia for people under the age of 60? Learn more
  about FTD\, including the signs and symptoms\, how it differs from other 
 dementias\, and the resources available locally and through AFTD.\n\n<stro
 ng>This class will be held both virtually and in-person in Fairfax.</stron
 g> Please select your attendance type when you register. <ul><li>In-person
  attendance in Fairfax is limited to 20 participants. The session will be 
 held in the Mazawey Education and Support Center\, 3955 Pender Drive\, Sui
 te 100\, Fairfax\, VA 22030 (<a href='https://www.insightmcc.org/about-ins
 ight-memory-care-center/locations/directions.html'>directions</a>).</li></
 ul>\n<ul><li>Virtual attendees will receive Zoom information prior to the 
 class.</li></ul>\n\n\nThis program is a part of our monthly Care Partner T
 raining series. All sessions are FREE\, and held the second Wednesday of e
 ach month from 1:00 to 2:30 pm.\n\n<strong>Presenter</strong>\n<em>Esther 
 Kane\, MSN\, RN-CDP\, The Association for Frontotemporal Degeneration</em>
 \nEsther joined AFTD as its Director of Support & Education in November 20
 20. Previously\, Esther served as Director of Wellness at CareOne Manageme
 nt\, a company that provides elder-care services throughout the Northeast 
 United States. She brings clinical\, educational\, managerial\, and market
 ing skills along with a passion for quality care for those who are living 
 with neurological conditions. Her work reflects a strong commitment to the
  importance of education and training throughout the spectrum of diagnosis
  and delivery of quality care. In her role\, Esther will ensure that AFTD’
 s support services and educational programs advance early diagnosis and im
 prove access to quality care and effective support\, as well as ensure tha
 t clinical information provided to healthcare professionals and the AFTD c
 ommunity is current and accurate.\n\n&nbsp\;\n<strong><a href='https://ins
 ightmemory.app.neoncrm.com/eventReg.jsp?event=894&' class='button'>Sign Me
  Up - In Person</a></strong>\n\n<strong><a href='https://insightmemory.app
 .neoncrm.com/eventReg.jsp?event=899&' class='button'>Sign Me Up - Virtual<
 /a></strong>
DTSTART;TZID=America/New_York:20230913T130000
DTEND;TZID=America/New_York:20230913T143000
LOCATION:Hybrid! Virtual and in-person at Insight Memory Care Center - Fair
 fax
SUMMARY:Frontotemporal Dementia
END:VEVENT
END:VCALENDAR
