BEGIN:VCALENDAR
VERSION:2.0
PRODID:-//www.insightmcc.org//NONSGML kigkonsult.se iCalcreator 2.30.10//
CALSCALE:GREGORIAN
METHOD:PUBLISH
UID:07964a75-3864-42ea-861d-17f4477ed847
X-WR-CALDESC:This group will offer a safe\, welcoming and private setting f
 or caregivers to share their caregiving experiences\, connect with others 
 going through the same journey and receive insight from an expert.\n\nGrou
 p meets the 2nd Thursday of the month. For the September 2023 group the to
 pic will be: how to communicate.
X-WR-RELCALID:ece2bee8b1bbd09c5d964bd3d2e90fa7
X-WR-TIMEZONE:America/New_York
BEGIN:VTIMEZONE
TZID:America/New_York
BEGIN:STANDARD
TZNAME:EST
DTSTART:20221106T020000
TZOFFSETFROM:-0400
TZOFFSETTO:-0500
RDATE:20231105T020000
RDATE:20241103T020000
END:STANDARD
BEGIN:DAYLIGHT
TZNAME:EDT
DTSTART:20230312T020000
TZOFFSETFROM:-0500
TZOFFSETTO:-0400
RDATE:20240310T020000
RDATE:20250309T020000
END:DAYLIGHT
END:VTIMEZONE
BEGIN:VEVENT
UID:33b247da-0f33-4b28-bf77-1bb8f31754fe
DTSTAMP:20260422T010422Z
DESCRIPTION:This group will offer a safe\, welcoming and private setting fo
 r caregivers to share their caregiving experiences\, connect with others g
 oing through the same journey and receive insight from an expert.\n\nGroup
  meets the 2nd Thursday of the month. For the September 2023 group the top
 ic will be: how to communicate.
DTSTART;TZID=America/New_York:20230913T150000
DTEND;TZID=America/New_York:20230913T160000
LOCATION:Great Falls Assisted Living\, 1121 Reston Ave\, Herndon\, VA 20170
  US
SUMMARY:How to Communicate
END:VEVENT
END:VCALENDAR
