BEGIN:VCALENDAR
VERSION:2.0
PRODID:-//www.insightmcc.org//NONSGML kigkonsult.se iCalcreator 2.30.10//
CALSCALE:GREGORIAN
METHOD:PUBLISH
UID:9a2fa19c-19e8-4318-9ad8-81eee4c6c8cf
X-WR-CALDESC:Sometimes people with dementia say things that suggest their s
 ense of reality is altered. Learn what to do and how to respond when your 
 loved one shows signs of confusion and errors in perception.\n\nThis progr
 am is presented by the Insight Memory Care Team at The Kensington Reston.
X-WR-RELCALID:a67eb47a603dcecb419e7cd0f2d58ae8
X-WR-TIMEZONE:America/New_York
BEGIN:VTIMEZONE
TZID:America/New_York
BEGIN:STANDARD
TZNAME:EST
DTSTART:20221106T020000
TZOFFSETFROM:-0400
TZOFFSETTO:-0500
RDATE:20231105T020000
RDATE:20241103T020000
END:STANDARD
BEGIN:DAYLIGHT
TZNAME:EDT
DTSTART:20230312T020000
TZOFFSETFROM:-0500
TZOFFSETTO:-0400
RDATE:20240310T020000
RDATE:20250309T020000
END:DAYLIGHT
END:VTIMEZONE
BEGIN:VEVENT
UID:0c02311b-1dee-46fb-a637-342cd21c29ba
DTSTAMP:20260422T011035Z
DESCRIPTION:Sometimes people with dementia say things that suggest their se
 nse of reality is altered. Learn what to do and how to respond when your l
 oved one shows signs of confusion and errors in perception.\n\nThis progra
 m is presented by the Insight Memory Care Team at The Kensington Reston.
DTSTART;TZID=America/New_York:20230913T180000
DTEND;TZID=America/New_York:20230913T190000
LOCATION:The Kensington Reston\, 11501 Sunrise Valley Dr\, Reston\, VA 2019
 1 US
SUMMARY:Living Their Lives – Validating Our Loved One’s Reality
END:VEVENT
END:VCALENDAR
