BEGIN:VCALENDAR
VERSION:2.0
PRODID:-//www.insightmcc.org//NONSGML kigkonsult.se iCalcreator 2.30.10//
CALSCALE:GREGORIAN
METHOD:PUBLISH
UID:c97d1aff-ea0c-4fe2-8b61-c2d048db173a
X-WR-CALDESC:Learn more about age-related changes in memory and learning\, 
 and practices to keep your brain sharp! Learn what to expect\, what’s “nor
 mal\,” and when it’s time to seek a doctor’s input.\n\nThis program is pre
 sented by the Insight Memory Care Team at Hollin Hall Senior Center.
X-WR-RELCALID:f23c97622162d2e0e6ece5611804d193
X-WR-TIMEZONE:America/New_York
BEGIN:VTIMEZONE
TZID:America/New_York
BEGIN:STANDARD
TZNAME:EST
DTSTART:20221106T020000
TZOFFSETFROM:-0400
TZOFFSETTO:-0500
RDATE:20231105T020000
RDATE:20241103T020000
END:STANDARD
BEGIN:DAYLIGHT
TZNAME:EDT
DTSTART:20230312T020000
TZOFFSETFROM:-0500
TZOFFSETTO:-0400
RDATE:20240310T020000
RDATE:20250309T020000
END:DAYLIGHT
END:VTIMEZONE
BEGIN:VEVENT
UID:2c53e622-0cd1-4731-a954-5577a35a2a08
DTSTAMP:20260422T010842Z
DESCRIPTION:Learn more about age-related changes in memory and learning\, a
 nd practices to keep your brain sharp! Learn what to expect\, what’s “norm
 al\,” and when it’s time to seek a doctor’s input.\n\nThis program is pres
 ented by the Insight Memory Care Team at Hollin Hall Senior Center.
DTSTART;TZID=America/New_York:20230915T130000
DTEND;TZID=America/New_York:20230915T140000
LOCATION:Hollin Hall Senior Center\, 1500 Shenandoah Rd\, Alexandria\, VA 2
 2308 US
SUMMARY:Better Brain Health as You Age
END:VEVENT
END:VCALENDAR
