BEGIN:VCALENDAR
VERSION:2.0
PRODID:-//www.insightmcc.org//NONSGML kigkonsult.se iCalcreator 2.30.10//
CALSCALE:GREGORIAN
METHOD:PUBLISH
UID:c202e6bb-bf25-49f1-84e9-c96d5b839eba
X-WR-CALDESC:Join us for a discussion about the importance of socialization
  when aging. Research has found that social support can play a significant
  role in overall health as people age. Spending time with friends and fami
 ly members can boost quality of life\, including both physical and mental 
 health. \n\nThis program is presented by the Insight Memory Care Team at t
 he Vienna Community Center.
X-WR-RELCALID:c64f43dcbb9945bfc37afb0cd9875de8
X-WR-TIMEZONE:America/New_York
BEGIN:VTIMEZONE
TZID:America/New_York
BEGIN:STANDARD
TZNAME:EST
DTSTART:20221106T020000
TZOFFSETFROM:-0400
TZOFFSETTO:-0500
RDATE:20231105T020000
RDATE:20241103T020000
END:STANDARD
BEGIN:DAYLIGHT
TZNAME:EDT
DTSTART:20230312T020000
TZOFFSETFROM:-0500
TZOFFSETTO:-0400
RDATE:20240310T020000
RDATE:20250309T020000
END:DAYLIGHT
END:VTIMEZONE
BEGIN:VEVENT
UID:164e3f53-145d-40b4-9da5-614f972f564d
DTSTAMP:20260422T010713Z
DESCRIPTION:Join us for a discussion about the importance of socialization 
 when aging. Research has found that social support can play a significant 
 role in overall health as people age. Spending time with friends and famil
 y members can boost quality of life\, including both physical and mental h
 ealth. \n\nThis program is presented by the Insight Memory Care Team at th
 e Vienna Community Center.
DTSTART;TZID=America/New_York:20230919T100000
DTEND;TZID=America/New_York:20230919T110000
LOCATION:Vienna Community Center\, 120 Cherry St SE\, Vienna\, VA 22180 US
SUMMARY:Importance of Socialization When Aging
END:VEVENT
END:VCALENDAR
