BEGIN:VCALENDAR
VERSION:2.0
PRODID:-//www.insightmcc.org//NONSGML kigkonsult.se iCalcreator 2.30.10//
CALSCALE:GREGORIAN
METHOD:PUBLISH
UID:08042f1b-10ca-4840-8367-d2fdfef523b0
X-WR-CALDESC:Join us on Wednesday\, Sept 20\, 2023\, for the Seniors in Act
 ion Fall Kick-Off Event! The events includes screenings\, walk-in Aroma To
 uch sessions\, coffee and more!\n\n10 a.m.-Noon: Falls Prevention\, Screen
 ings and Safety Information. Register for a 15-minute Falls Risk Screening
  Assessment. For more information email: rto@marymount.edu\nNOVA Falls Pre
 vention Alliance www.Novafallsprevention.com\n\n10 a.m.-2 p.m. Memory Scre
 enings. Register for a 20-minute Memory Screening with Melissa J Long\, CT
 RS\, CDP\, CADDCT\, BF-CMT Director of Education and Support at Insight Me
 mory Care Center.
X-WR-RELCALID:ca5792b926777a1205ec5a2e190b5ca9
X-WR-TIMEZONE:America/New_York
BEGIN:VTIMEZONE
TZID:America/New_York
BEGIN:STANDARD
TZNAME:EST
DTSTART:20221106T020000
TZOFFSETFROM:-0400
TZOFFSETTO:-0500
RDATE:20231105T020000
RDATE:20241103T020000
END:STANDARD
BEGIN:DAYLIGHT
TZNAME:EDT
DTSTART:20230312T020000
TZOFFSETFROM:-0500
TZOFFSETTO:-0400
RDATE:20240310T020000
RDATE:20250309T020000
END:DAYLIGHT
END:VTIMEZONE
BEGIN:VEVENT
UID:b82a61ca-d3ab-4fee-8d39-f145263f5952
DTSTAMP:20260422T010929Z
DESCRIPTION:Join us on Wednesday\, Sept 20\, 2023\, for the Seniors in Acti
 on Fall Kick-Off Event! The events includes screenings\, walk-in Aroma Tou
 ch sessions\, coffee and more!\n\n10 a.m.-Noon: Falls Prevention\, Screeni
 ngs and Safety Information. Register for a 15-minute Falls Risk Screening 
 Assessment. For more information email: rto@marymount.edu\nNOVA Falls Prev
 ention Alliance www.Novafallsprevention.com\n\n10 a.m.-2 p.m. Memory Scree
 nings. Register for a 20-minute Memory Screening with Melissa J Long\, CTR
 S\, CDP\, CADDCT\, BF-CMT Director of Education and Support at Insight Mem
 ory Care Center.
DTSTART;TZID=America/New_York:20230920T100000
DTEND;TZID=America/New_York:20230920T140000
LOCATION:McLean Community Center\, 1234 Ingleside Ave\, McLean\, VA 22101 U
 S
SUMMARY:Seniors in Action Fall Kick-Off- McLean Community Center
END:VEVENT
END:VCALENDAR
