BEGIN:VCALENDAR
VERSION:2.0
PRODID:-//www.insightmcc.org//NONSGML kigkonsult.se iCalcreator 2.30.10//
CALSCALE:GREGORIAN
METHOD:PUBLISH
UID:98368b17-f4bc-4dc8-944a-a11c07ce2955
X-WR-CALDESC:* Event was postponed due to weather\, we will be in touch reg
 arding rescheduling. If you have any questions please contact educate@insi
 ghtmcc.org *\n\nAs a part of our Fall Caregiver Bootcamp\, Driver Rehabili
 tation Center of Excellence is offering CarFit\, an educational program th
 at offers older adults the opportunity to check how well their personal ve
 hicles 'fit' them. The program also provides information and materials on 
 community-specific resources that could enhance their safety as drivers an
 d/or increase their mobility in the community.\n\nSign up for a specific t
 ime slot\; only two are available each half-hour. You are welcome to atten
 d our Caregiver Bootcamp as well\, or just take advantage of a CarFit sess
 ion!\n\n&nbsp\;\n<strong><a href='https://insightmemory.app.neoncrm.com/ev
 entReg.jsp?event=1040&' target='_blank' class='button' rel='noreferrer noo
 pener'>Sign Me Up!</a></strong>
X-WR-RELCALID:3e73ffad44460cfd89313ee2a2a01484
X-WR-TIMEZONE:America/New_York
BEGIN:VTIMEZONE
TZID:America/New_York
BEGIN:STANDARD
TZNAME:EST
DTSTART:20221106T020000
TZOFFSETFROM:-0400
TZOFFSETTO:-0500
RDATE:20231105T020000
RDATE:20241103T020000
END:STANDARD
BEGIN:DAYLIGHT
TZNAME:EDT
DTSTART:20230312T020000
TZOFFSETFROM:-0500
TZOFFSETTO:-0400
RDATE:20240310T020000
RDATE:20250309T020000
END:DAYLIGHT
END:VTIMEZONE
BEGIN:VEVENT
UID:a25bc6b8-1f28-470d-a6ff-64bbd57b5cc2
DTSTAMP:20260422T010736Z
DESCRIPTION:* Event was postponed due to weather\, we will be in touch rega
 rding rescheduling. If you have any questions please contact educate@insig
 htmcc.org *\n\nAs a part of our Fall Caregiver Bootcamp\, Driver Rehabilit
 ation Center of Excellence is offering CarFit\, an educational program tha
 t offers older adults the opportunity to check how well their personal veh
 icles 'fit' them. The program also provides information and materials on c
 ommunity-specific resources that could enhance their safety as drivers and
 /or increase their mobility in the community.\n\nSign up for a specific ti
 me slot\; only two are available each half-hour. You are welcome to attend
  our Caregiver Bootcamp as well\, or just take advantage of a CarFit sessi
 on!\n\n&nbsp\;\n<strong><a href='https://insightmemory.app.neoncrm.com/eve
 ntReg.jsp?event=1040&' target='_blank' class='button' rel='noreferrer noop
 ener'>Sign Me Up!</a></strong>
DTSTART;TZID=America/New_York:20230923T090000
DTEND;TZID=America/New_York:20230923T120000
LOCATION:Insight - Fairfax\, 3955 Pender Drive\, Suite 100\, Fairfax\, VA 2
 2030 US
SUMMARY:Caregiver Bootcamp - CarFit Sessions
END:VEVENT
END:VCALENDAR
