BEGIN:VCALENDAR
VERSION:2.0
PRODID:-//www.insightmcc.org//NONSGML kigkonsult.se iCalcreator 2.30.10//
CALSCALE:GREGORIAN
METHOD:PUBLISH
UID:aa4caccd-37c7-4e87-9080-8da24fec0ebd
X-WR-CALDESC:* Event was postponed due to weather\, we will be in touch reg
 arding rescheduling. If you have any questions please contact educate@insi
 ghtmcc.org  * \n\n\nJoin IMCC for a free\, special morning training event 
 covering many essential caregiving topics! For the September 2023 session\
 , we'll be focused on providing tools for everyday caregiving questions! L
 earn actionable tips and ideas you can use to tackle caregiving challenges
  at home.\n\nTopics for this session include:\n\n<strong>What Do I Ask the
  Neurologist?</strong>\n<em>Presented by: EvenBeam Neuropalliative Care\, 
 LLC</em>\nA diagnosis of dementia\, whether your own or a loved one’s\, ma
 y leave everyone involved feeling overwhelmed\, anxious and uncertain abou
 t what the future will hold. It’s important to gather as much information 
 from your doctor as you can. Asking the right questions can help you navig
 ate your appointments and this journey.\n\n<strong>When is the right time 
 to move?</strong>\n<em>Presented by: Pathways in Aging</em>\nWhile many se
 niors with early-stage dementia can live independently or with some help\,
  those with greater cognitive decline may need assistance from trained pro
 fessionals in memory care communities. Let’s talk and learn when is the ri
 ght time. \n\n<strong>How Do I Tackle Decluttering?</strong>\n<em>Presente
 d by: Artifcts</em>\nFrom saving memories while decluttering to preserving
  the value behind your things\, Artifcts gives you a digital way to organi
 ze stuff and capture the meaning behind objects. Bring an item from home y
 ou would like to capture and tell a story about!\n\n<strong>Are you still 
 driving? Does your vehicle fit you?</strong>\n<em>Presented by: Driver Reh
 abilitation Center of Excellence\, LLC</em>\nCarFit is an educational prog
 ram that offers older adults the opportunity to check how well their perso
 nal vehicles 'fit' them. The program also provides information and materia
 ls on community-specific resources that could enhance their safety as driv
 ers and/or increase their mobility in the community. <a href='https://www.
 insightmcc.org/get-involved/events/event_calendar.html/event/2023/09/23/ca
 regiver-bootcamp-carfit-sessions/449273' target='_blank' rel='noreferrer n
 oopener'>You can register for a specific timeslot here!</a>\n\n\nThere wil
 l also be a door prize from Artifcts!\n\n<b>Sponsored by Silverado Alexand
 ria Memory Care Community!</b>\n\n&nbsp\;\n<strong><a href='https://insigh
 tmemory.app.neoncrm.com/eventReg.jsp?event=909&' target='_blank' class='bu
 tton' rel='noreferrer noopener'>Sign Me Up!</a></strong>
X-WR-RELCALID:286d1a8dbcb8cf434143958756b11075
X-WR-TIMEZONE:America/New_York
BEGIN:VTIMEZONE
TZID:America/New_York
BEGIN:STANDARD
TZNAME:EST
DTSTART:20221106T020000
TZOFFSETFROM:-0400
TZOFFSETTO:-0500
RDATE:20231105T020000
RDATE:20241103T020000
END:STANDARD
BEGIN:DAYLIGHT
TZNAME:EDT
DTSTART:20230312T020000
TZOFFSETFROM:-0500
TZOFFSETTO:-0400
RDATE:20240310T020000
RDATE:20250309T020000
END:DAYLIGHT
END:VTIMEZONE
BEGIN:VEVENT
UID:aabf2c2b-ed90-4fc1-b641-ba0473044efc
DTSTAMP:20260421T233906Z
DESCRIPTION:* Event was postponed due to weather\, we will be in touch rega
 rding rescheduling. If you have any questions please contact educate@insig
 htmcc.org  * \n\n\nJoin IMCC for a free\, special morning training event c
 overing many essential caregiving topics! For the September 2023 session\,
  we'll be focused on providing tools for everyday caregiving questions! Le
 arn actionable tips and ideas you can use to tackle caregiving challenges 
 at home.\n\nTopics for this session include:\n\n<strong>What Do I Ask the 
 Neurologist?</strong>\n<em>Presented by: EvenBeam Neuropalliative Care\, L
 LC</em>\nA diagnosis of dementia\, whether your own or a loved one’s\, may
  leave everyone involved feeling overwhelmed\, anxious and uncertain about
  what the future will hold. It’s important to gather as much information f
 rom your doctor as you can. Asking the right questions can help you naviga
 te your appointments and this journey.\n\n<strong>When is the right time t
 o move?</strong>\n<em>Presented by: Pathways in Aging</em>\nWhile many sen
 iors with early-stage dementia can live independently or with some help\, 
 those with greater cognitive decline may need assistance from trained prof
 essionals in memory care communities. Let’s talk and learn when is the rig
 ht time. \n\n<strong>How Do I Tackle Decluttering?</strong>\n<em>Presented
  by: Artifcts</em>\nFrom saving memories while decluttering to preserving 
 the value behind your things\, Artifcts gives you a digital way to organiz
 e stuff and capture the meaning behind objects. Bring an item from home yo
 u would like to capture and tell a story about!\n\n<strong>Are you still d
 riving? Does your vehicle fit you?</strong>\n<em>Presented by: Driver Reha
 bilitation Center of Excellence\, LLC</em>\nCarFit is an educational progr
 am that offers older adults the opportunity to check how well their person
 al vehicles 'fit' them. The program also provides information and material
 s on community-specific resources that could enhance their safety as drive
 rs and/or increase their mobility in the community. <a href='https://www.i
 nsightmcc.org/get-involved/events/event_calendar.html/event/2023/09/23/car
 egiver-bootcamp-carfit-sessions/449273' target='_blank' rel='noreferrer no
 opener'>You can register for a specific timeslot here!</a>\n\n\nThere will
  also be a door prize from Artifcts!\n\n<b>Sponsored by Silverado Alexandr
 ia Memory Care Community!</b>\n\n&nbsp\;\n<strong><a href='https://insight
 memory.app.neoncrm.com/eventReg.jsp?event=909&' target='_blank' class='but
 ton' rel='noreferrer noopener'>Sign Me Up!</a></strong>
DTSTART;TZID=America/New_York:20230923T090000
DTEND;TZID=America/New_York:20230923T120000
LOCATION:Insight - Fairfax\, 3953 Pender Drive Suite 100\, Fairfax\, VA 223
 07 US
SUMMARY:Caregiver Bootcamp
END:VEVENT
END:VCALENDAR
