BEGIN:VCALENDAR
VERSION:2.0
PRODID:-//www.insightmcc.org//NONSGML kigkonsult.se iCalcreator 2.30.10//
CALSCALE:GREGORIAN
METHOD:PUBLISH
UID:c3245484-94e1-4acb-a3bb-2cf3bab8965c
X-WR-CALDESC:You’ve probably seen the headlines about Leqembi\, the new FDA
  approved treatment for those with early Alzheimer’s disease. But what doe
 s Leqembi do differently? Is it better than older treatments?\n\nR. Scott 
 Turner\, MD\, Director of the Georgetown Memory Disorders Program will joi
 n us for a virtual live discussion and Q&A about new Alzheimer’s treatment
 s. Get your questions answered and learn more about the current state of A
 lzheimer’s research and treatments.\n\nThis event is offered in partnershi
 p with AARP Virginia.\n\n&nbsp\;\n<strong><a href='https://insightmemory.a
 pp.neoncrm.com/eventReg.jsp?event=1006&' class='button'>Sign Me Up!</a></s
 trong><p></p>\n
X-WR-RELCALID:ea687b1bb53473020d49fa7f495985c3
X-WR-TIMEZONE:America/New_York
BEGIN:VTIMEZONE
TZID:America/New_York
BEGIN:STANDARD
TZNAME:EST
DTSTART:20221106T020000
TZOFFSETFROM:-0400
TZOFFSETTO:-0500
RDATE:20231105T020000
RDATE:20241103T020000
END:STANDARD
BEGIN:DAYLIGHT
TZNAME:EDT
DTSTART:20230312T020000
TZOFFSETFROM:-0500
TZOFFSETTO:-0400
RDATE:20240310T020000
RDATE:20250309T020000
END:DAYLIGHT
END:VTIMEZONE
BEGIN:VEVENT
UID:60f112e3-1e9a-46e7-8edf-02dc05fb853f
DTSTAMP:20260422T011516Z
DESCRIPTION:You’ve probably seen the headlines about Leqembi\, the new FDA 
 approved treatment for those with early Alzheimer’s disease. But what does
  Leqembi do differently? Is it better than older treatments?\n\nR. Scott T
 urner\, MD\, Director of the Georgetown Memory Disorders Program will join
  us for a virtual live discussion and Q&A about new Alzheimer’s treatments
 . Get your questions answered and learn more about the current state of Al
 zheimer’s research and treatments.\n\nThis event is offered in partnership
  with AARP Virginia.\n\n&nbsp\;\n<strong><a href='https://insightmemory.ap
 p.neoncrm.com/eventReg.jsp?event=1006&' class='button'>Sign Me Up!</a></st
 rong><p></p>\n
DTSTART;TZID=America/New_York:20230927T160000
DTEND;TZID=America/New_York:20230927T170000
LOCATION:
SUMMARY:New Alzheimer’s Treatments Virtual Q&A
END:VEVENT
END:VCALENDAR
