BEGIN:VCALENDAR
VERSION:2.0
PRODID:-//www.insightmcc.org//NONSGML kigkonsult.se iCalcreator 2.30.10//
CALSCALE:GREGORIAN
METHOD:PUBLISH
UID:9eb2b8c5-628e-48cb-a67b-16b98bf50bb1
X-WR-CALDESC:This virtual panel conversation hosted by Fairfax County\, wil
 l explore program models that are available for family caregivers who are 
 caring for a loved one with dementia and are struggling to find respite an
 d support. Caring for a loved one with dementia has unique challenges for 
 each family\, and it can become very isolating and overwhelming. With the 
 right support systems in place\, both the caregiver and loved one can thri
 ve and be cared for. This panel will explore the benefits of day programs 
 that can provide a safe and consistent space to meet the physical\, social
 \, and nutritional needs of a loved one while providing a peace of mind to
  the caregiver. In addition\, it will address a new home approach to manag
 e challenging behaviors in loved ones with dementia.\n\nMelissa Long\, Dir
 ector of Education and Support at Insight Memory Care Center\, is a paneli
 st for this discussion.
X-WR-RELCALID:3827cf46601f2093155c8f3cc2f5e92c
X-WR-TIMEZONE:America/New_York
BEGIN:VTIMEZONE
TZID:America/New_York
BEGIN:STANDARD
TZNAME:EST
DTSTART:20221106T020000
TZOFFSETFROM:-0400
TZOFFSETTO:-0500
RDATE:20231105T020000
RDATE:20241103T020000
END:STANDARD
BEGIN:DAYLIGHT
TZNAME:EDT
DTSTART:20230312T020000
TZOFFSETFROM:-0500
TZOFFSETTO:-0400
RDATE:20240310T020000
RDATE:20250309T020000
END:DAYLIGHT
END:VTIMEZONE
BEGIN:VEVENT
UID:3e69cc77-71d5-42b8-91c4-0197912ff91b
DTSTAMP:20260422T013426Z
DESCRIPTION:This virtual panel conversation hosted by Fairfax County\, will
  explore program models that are available for family caregivers who are c
 aring for a loved one with dementia and are struggling to find respite and
  support. Caring for a loved one with dementia has unique challenges for e
 ach family\, and it can become very isolating and overwhelming. With the r
 ight support systems in place\, both the caregiver and loved one can thriv
 e and be cared for. This panel will explore the benefits of day programs t
 hat can provide a safe and consistent space to meet the physical\, social\
 , and nutritional needs of a loved one while providing a peace of mind to 
 the caregiver. In addition\, it will address a new home approach to manage
  challenging behaviors in loved ones with dementia.\n\nMelissa Long\, Dire
 ctor of Education and Support at Insight Memory Care Center\, is a panelis
 t for this discussion.
DTSTART;TZID=America/New_York:20230929T140000
DTEND;TZID=America/New_York:20230929T150000
LOCATION:https://www.fairfaxcounty.gov/hscode/EReg/Registration.aspx?groupI
 D=66
SUMMARY:Program Models for Loved Ones Living with Dementia - Panel Discussi
 on
END:VEVENT
END:VCALENDAR
