BEGIN:VCALENDAR
VERSION:2.0
PRODID:-//www.insightmcc.org//NONSGML kigkonsult.se iCalcreator 2.30.10//
CALSCALE:GREGORIAN
METHOD:PUBLISH
UID:524a2447-1770-44f5-b7f2-b9f2949cdd3b
X-WR-CALDESC:This group is specifically designed for care partners whose lo
 ved one has received a diagnosis of frontotemporal degeneration. Get to kn
 ow other families who are in a similar situation\, while also learning pra
 ctical caregiving tips and sharing personal concerns and successes.\n\nThi
 s group meets virtually on the first Tuesday. All support groups are free 
 and open to the public. Please register and you'll receive Zoom informatio
 n to join!\n\n&nbsp\;\n<strong><a href='https://insightmemory.app.neoncrm.
 com/eventReg.jsp?event=798&' target='_blank' class='button' rel='noreferre
 r noopener'>Sign Me Up!</a></strong>
X-WR-RELCALID:e525b313586af912eb672d7442870cd8
X-WR-TIMEZONE:America/New_York
BEGIN:VTIMEZONE
TZID:America/New_York
BEGIN:STANDARD
TZNAME:EST
DTSTART:20221106T020000
TZOFFSETFROM:-0400
TZOFFSETTO:-0500
RDATE:20231105T020000
RDATE:20241103T020000
END:STANDARD
BEGIN:DAYLIGHT
TZNAME:EDT
DTSTART:20230312T020000
TZOFFSETFROM:-0500
TZOFFSETTO:-0400
RDATE:20240310T020000
RDATE:20250309T020000
END:DAYLIGHT
END:VTIMEZONE
BEGIN:VEVENT
UID:ab5fa363-ec4e-4ef0-8bdd-2a85facb67eb
DTSTAMP:20260421T233323Z
DESCRIPTION:This group is specifically designed for care partners whose lov
 ed one has received a diagnosis of frontotemporal degeneration. Get to kno
 w other families who are in a similar situation\, while also learning prac
 tical caregiving tips and sharing personal concerns and successes.\n\nThis
  group meets virtually on the first Tuesday. All support groups are free a
 nd open to the public. Please register and you'll receive Zoom information
  to join!\n\n&nbsp\;\n<strong><a href='https://insightmemory.app.neoncrm.c
 om/eventReg.jsp?event=798&' target='_blank' class='button' rel='noreferrer
  noopener'>Sign Me Up!</a></strong>
DTSTART;TZID=America/New_York:20231003T190000
DTEND;TZID=America/New_York:20231003T203000
LOCATION:Virtual
SUMMARY:FTD Caregiver Support Group
END:VEVENT
END:VCALENDAR
