BEGIN:VCALENDAR
VERSION:2.0
PRODID:-//www.insightmcc.org//NONSGML kigkonsult.se iCalcreator 2.30.10//
CALSCALE:GREGORIAN
METHOD:PUBLISH
UID:a1ccbc2a-8c3e-4389-ab01-27790a2a39bf
X-WR-CALDESC:Join us for a discussion on changes that occur with age\, warn
 ing signs of a memory problem\, and what to do if someone you love is expe
 riencing symptoms of dementia or memory impairment.\n\nThis program is pre
 sented by the Insight Memory Care Team at the Green Acres Community Center
 .
X-WR-RELCALID:0faf79b9352c5359e3cfe98fcadbb280
X-WR-TIMEZONE:America/New_York
BEGIN:VTIMEZONE
TZID:America/New_York
BEGIN:STANDARD
TZNAME:EST
DTSTART:20221106T020000
TZOFFSETFROM:-0400
TZOFFSETTO:-0500
RDATE:20231105T020000
RDATE:20241103T020000
END:STANDARD
BEGIN:DAYLIGHT
TZNAME:EDT
DTSTART:20230312T020000
TZOFFSETFROM:-0500
TZOFFSETTO:-0400
RDATE:20240310T020000
RDATE:20250309T020000
END:DAYLIGHT
END:VTIMEZONE
BEGIN:VEVENT
UID:0aeca8c4-6315-418d-a9b1-e15ae7181a15
DTSTAMP:20260421T233200Z
DESCRIPTION:Join us for a discussion on changes that occur with age\, warni
 ng signs of a memory problem\, and what to do if someone you love is exper
 iencing symptoms of dementia or memory impairment.\n\nThis program is pres
 ented by the Insight Memory Care Team at the Green Acres Community Center.
DTSTART;TZID=America/New_York:20231005T143000
DTEND;TZID=America/New_York:20231005T153000
LOCATION:Green Acres Community Center\, 4401 Sideburn Road\, Fairfax\, VA 2
 2030 US
SUMMARY:Normal Aging vs. Dementia
END:VEVENT
END:VCALENDAR
