BEGIN:VCALENDAR
VERSION:2.0
PRODID:-//www.insightmcc.org//NONSGML kigkonsult.se iCalcreator 2.30.10//
CALSCALE:GREGORIAN
METHOD:PUBLISH
UID:54164048-74ef-4bf3-a691-15b31d652f9e
X-WR-CALDESC:Insight will be closed for Indigenous Peoples' Day. Enjoy your
  holiday!
X-WR-RELCALID:e16f493f02cad51b3db0bb0bd6116639
X-WR-TIMEZONE:America/New_York
BEGIN:VTIMEZONE
TZID:America/New_York
BEGIN:STANDARD
TZNAME:EST
DTSTART:20221106T020000
TZOFFSETFROM:-0400
TZOFFSETTO:-0500
RDATE:20231105T020000
RDATE:20241103T020000
END:STANDARD
BEGIN:DAYLIGHT
TZNAME:EDT
DTSTART:20230312T020000
TZOFFSETFROM:-0500
TZOFFSETTO:-0400
RDATE:20240310T020000
RDATE:20250309T020000
END:DAYLIGHT
END:VTIMEZONE
BEGIN:VEVENT
UID:9f60a58c-ef98-42c1-b24d-63acc1bc383c
DTSTAMP:20260421T233844Z
DESCRIPTION:Insight will be closed for Indigenous Peoples' Day. Enjoy your 
 holiday!
DTSTART;TZID=America/New_York:20231009T000000
DTEND;TZID=America/New_York:20231009T235900
LOCATION:
SUMMARY:Insight Closed
END:VEVENT
END:VCALENDAR
