BEGIN:VCALENDAR
VERSION:2.0
PRODID:-//www.insightmcc.org//NONSGML kigkonsult.se iCalcreator 2.30.10//
CALSCALE:GREGORIAN
METHOD:PUBLISH
UID:eaea69f8-246e-4f7b-9afe-3103ad0d872c
X-WR-CALDESC:Medical errors are the eighth leading cause of death in the Un
 ited States\, and a critical subgroup of these errors is that of patients 
 who are harmed by pharmaceuticals that are intended to help them. Some of 
 these mistakes occur in a hospital or other facility\, yet a significant n
 umber take place at home. Elderly patients who could have limited resource
 s\, multiple diagnoses\, numerous medications\, and failing sensory or cog
 nitive abilities may become confused regarding their drug regimen. They co
 uld accidentally take too much\, too little\, or none at all. \n\nMind you
 r Meds educates and raises awareness around medication safety and drug abu
 se prevention.\n\n<strong>This class will be held both virtually and in-pe
 rson in Fairfax.</strong> Please select your attendance type when you regi
 ster. <ul><li>In-person attendance in Fairfax is limited to 20 participant
 s. The session will be held in the Mazawey Education and Support Center\, 
 3955 Pender Drive\, Suite 100\, Fairfax\, VA 22030 (<a href='https://www.i
 nsightmcc.org/about-insight-memory-care-center/locations/directions.html'>
 directions</a>).</li></ul>\n<ul><li>Virtual attendees will receive Zoom in
 formation prior to the class.</li></ul>\n\n\nThis program is a part of our
  monthly Care Partner Training series. All sessions are FREE\, and held th
 e second Wednesday of each month from 1:00 to 2:30 pm.\n\n​\n\n\n\n\n&nbsp
 \;\n<strong><a href='https://insightmemory.app.neoncrm.com/eventReg.jsp?ev
 ent=1071&' class='button'>Sign Me Up - In Person</a></strong>\n\n<strong><
 a href='https://insightmemory.app.neoncrm.com/eventReg.jsp?event=1076&' cl
 ass='button'>Sign Me Up - Virtual</a></strong>
X-WR-RELCALID:3b6cee1cc68d9545e4b8688499a3ac3c
X-WR-TIMEZONE:America/New_York
BEGIN:VTIMEZONE
TZID:America/New_York
BEGIN:STANDARD
TZNAME:EST
DTSTART:20221106T020000
TZOFFSETFROM:-0400
TZOFFSETTO:-0500
RDATE:20231105T020000
RDATE:20241103T020000
END:STANDARD
BEGIN:DAYLIGHT
TZNAME:EDT
DTSTART:20230312T020000
TZOFFSETFROM:-0500
TZOFFSETTO:-0400
RDATE:20240310T020000
RDATE:20250309T020000
END:DAYLIGHT
END:VTIMEZONE
BEGIN:VEVENT
UID:0a5f1439-3741-4244-a983-1cc3f91e8856
DTSTAMP:20260421T233344Z
DESCRIPTION:Medical errors are the eighth leading cause of death in the Uni
 ted States\, and a critical subgroup of these errors is that of patients w
 ho are harmed by pharmaceuticals that are intended to help them. Some of t
 hese mistakes occur in a hospital or other facility\, yet a significant nu
 mber take place at home. Elderly patients who could have limited resources
 \, multiple diagnoses\, numerous medications\, and failing sensory or cogn
 itive abilities may become confused regarding their drug regimen. They cou
 ld accidentally take too much\, too little\, or none at all. \n\nMind your
  Meds educates and raises awareness around medication safety and drug abus
 e prevention.\n\n<strong>This class will be held both virtually and in-per
 son in Fairfax.</strong> Please select your attendance type when you regis
 ter. <ul><li>In-person attendance in Fairfax is limited to 20 participants
 . The session will be held in the Mazawey Education and Support Center\, 3
 955 Pender Drive\, Suite 100\, Fairfax\, VA 22030 (<a href='https://www.in
 sightmcc.org/about-insight-memory-care-center/locations/directions.html'>d
 irections</a>).</li></ul>\n<ul><li>Virtual attendees will receive Zoom inf
 ormation prior to the class.</li></ul>\n\n\nThis program is a part of our 
 monthly Care Partner Training series. All sessions are FREE\, and held the
  second Wednesday of each month from 1:00 to 2:30 pm.\n\n​\n\n\n\n\n&nbsp\
 ;\n<strong><a href='https://insightmemory.app.neoncrm.com/eventReg.jsp?eve
 nt=1071&' class='button'>Sign Me Up - In Person</a></strong>\n\n<strong><a
  href='https://insightmemory.app.neoncrm.com/eventReg.jsp?event=1076&' cla
 ss='button'>Sign Me Up - Virtual</a></strong>
DTSTART;TZID=America/New_York:20231011T130000
DTEND;TZID=America/New_York:20231011T143000
LOCATION:Hybrid! Virtual and in-person at Insight Memory Care Center - Fair
 fax
SUMMARY:Medications and Older Adults
END:VEVENT
END:VCALENDAR
