BEGIN:VCALENDAR
VERSION:2.0
PRODID:-//www.insightmcc.org//NONSGML kigkonsult.se iCalcreator 2.30.10//
CALSCALE:GREGORIAN
METHOD:PUBLISH
UID:b91a3347-a171-425c-a73f-57dde92ad796
X-WR-CALDESC:AARP Virginia and Insight Memory Care Center present this Auth
 or Spotlight with Scott Rose\, author of We Danced:\nOur Story of Love and
  Dementia. Join us for this free\, open discussion to learn about the deme
 ntia journey from a care partner’s perspective.\n\n<h6>About the Book</h6>
 \nWe Danced is a loving and thoughtfully written tribute to the author’s w
 ife and their years together. The details of her journey with frontotempor
 al dementia and the author’s experiences as a care partner are presented i
 n a manner that is truly illustrative of his devotion to her. The ways in 
 which they continued to celebrate life after her diagnosis and the tips sh
 ared are valuable and beautiful insights for those living with dementia an
 d their care partners.\n\n<h6>About the Author</h6>\n Scott Rose was raise
 d outside of Portland\, Oregon\, where he still resides. He spent his care
 er planning and managing the design and construction of schools and spoke 
 in regional\, state\, and national venues. His greatest joy was his marria
 ge to Maureen. They traveled\, loved\, and danced their entire marriage. S
 cott cared for Maureen throughout her illness. He contributes to the socia
 l media site for the Association for FTD and co-facilitates a caregiver su
 pport group. He still walks along the Oregon beaches where they often held
  hands.\n\n<h6>Location</h6>\nThis hybrid session will be offered in-perso
 n at The Kensington Falls Church and online for virtual participation. Ple
 ase select your preferred option when registering.\n\n<strong>In-Person</s
 trong>\nThe Kensington Falls Church\n700 W Broad Street\nFalls Church\, VA
  22046\n\n<strong>Virtual</strong>\nVirtual attendees will be emailed dire
 ctions to log-in just before the event.\n\n\n\n&nbsp\;\n<strong><a href='h
 ttps://insightmemory.app.neoncrm.com/eventReg.jsp?event=884&' target='_bla
 nk' class='button' rel='noreferrer noopener'>Sign Me Up - In Person</a></s
 trong>\n\n<strong><a href='https://insightmemory.app.neoncrm.com/eventReg.
 jsp?event=889&' class='button'>Sign Me Up - Virtual</a></strong>
X-WR-RELCALID:e093ef41c881637f30732a69b6a085e8
X-WR-TIMEZONE:America/New_York
BEGIN:VTIMEZONE
TZID:America/New_York
BEGIN:STANDARD
TZNAME:EST
DTSTART:20221106T020000
TZOFFSETFROM:-0400
TZOFFSETTO:-0500
RDATE:20231105T020000
RDATE:20241103T020000
END:STANDARD
BEGIN:DAYLIGHT
TZNAME:EDT
DTSTART:20230312T020000
TZOFFSETFROM:-0500
TZOFFSETTO:-0400
RDATE:20240310T020000
RDATE:20250309T020000
END:DAYLIGHT
END:VTIMEZONE
BEGIN:VEVENT
UID:5097b9f1-19d8-48d5-9837-39568cca0dbe
DTSTAMP:20260421T235043Z
DESCRIPTION:AARP Virginia and Insight Memory Care Center present this Autho
 r Spotlight with Scott Rose\, author of We Danced:\nOur Story of Love and 
 Dementia. Join us for this free\, open discussion to learn about the demen
 tia journey from a care partner’s perspective.\n\n<h6>About the Book</h6>
 \nWe Danced is a loving and thoughtfully written tribute to the author’s w
 ife and their years together. The details of her journey with frontotempor
 al dementia and the author’s experiences as a care partner are presented i
 n a manner that is truly illustrative of his devotion to her. The ways in 
 which they continued to celebrate life after her diagnosis and the tips sh
 ared are valuable and beautiful insights for those living with dementia an
 d their care partners.\n\n<h6>About the Author</h6>\n Scott Rose was raise
 d outside of Portland\, Oregon\, where he still resides. He spent his care
 er planning and managing the design and construction of schools and spoke 
 in regional\, state\, and national venues. His greatest joy was his marria
 ge to Maureen. They traveled\, loved\, and danced their entire marriage. S
 cott cared for Maureen throughout her illness. He contributes to the socia
 l media site for the Association for FTD and co-facilitates a caregiver su
 pport group. He still walks along the Oregon beaches where they often held
  hands.\n\n<h6>Location</h6>\nThis hybrid session will be offered in-perso
 n at The Kensington Falls Church and online for virtual participation. Ple
 ase select your preferred option when registering.\n\n<strong>In-Person</s
 trong>\nThe Kensington Falls Church\n700 W Broad Street\nFalls Church\, VA
  22046\n\n<strong>Virtual</strong>\nVirtual attendees will be emailed dire
 ctions to log-in just before the event.\n\n\n\n&nbsp\;\n<strong><a href='h
 ttps://insightmemory.app.neoncrm.com/eventReg.jsp?event=884&' target='_bla
 nk' class='button' rel='noreferrer noopener'>Sign Me Up - In Person</a></s
 trong>\n\n<strong><a href='https://insightmemory.app.neoncrm.com/eventReg.
 jsp?event=889&' class='button'>Sign Me Up - Virtual</a></strong>
DTSTART;TZID=America/New_York:20231012T180000
DTEND;TZID=America/New_York:20231012T193000
LOCATION:Hybrid! This event will be offered at The Kensington Falls Church 
 and online!
SUMMARY:Author Spotlight: We Danced - Our Story of Love & Dementia
END:VEVENT
END:VCALENDAR
