BEGIN:VCALENDAR
VERSION:2.0
PRODID:-//www.insightmcc.org//NONSGML kigkonsult.se iCalcreator 2.30.10//
CALSCALE:GREGORIAN
METHOD:PUBLISH
UID:ff70ebbf-3a2b-4764-86d8-6837745a7fb2
X-WR-CALDESC:This group will offer a safe\, welcoming and private setting f
 or caregivers to share their caregiving experiences\, connect with others 
 going through the same journey and receive insight from an expert.\n\nGrou
 p meets the 2nd Thursday of the month. For the October 2023 the topic is p
 urposeful visits.
X-WR-RELCALID:fdcdae6f2347fb23cb27402432f57932
X-WR-TIMEZONE:America/New_York
BEGIN:VTIMEZONE
TZID:America/New_York
BEGIN:STANDARD
TZNAME:EST
DTSTART:20221106T020000
TZOFFSETFROM:-0400
TZOFFSETTO:-0500
RDATE:20231105T020000
RDATE:20241103T020000
END:STANDARD
BEGIN:DAYLIGHT
TZNAME:EDT
DTSTART:20230312T020000
TZOFFSETFROM:-0500
TZOFFSETTO:-0400
RDATE:20240310T020000
RDATE:20250309T020000
END:DAYLIGHT
END:VTIMEZONE
BEGIN:VEVENT
UID:b037f709-260e-4ec4-beac-c2082ce2fd04
DTSTAMP:20260421T233113Z
DESCRIPTION:This group will offer a safe\, welcoming and private setting fo
 r caregivers to share their caregiving experiences\, connect with others g
 oing through the same journey and receive insight from an expert.\n\nGroup
  meets the 2nd Thursday of the month. For the October 2023 the topic is pu
 rposeful visits.
DTSTART;TZID=America/New_York:20231012T150000
DTEND;TZID=America/New_York:20231012T160000
LOCATION:Great Falls Assisted Living\, 1121 Reston Ave\, Herndon\, VA 20170
  US
SUMMARY:Purposeful Visits
END:VEVENT
END:VCALENDAR
