BEGIN:VCALENDAR
VERSION:2.0
PRODID:-//www.insightmcc.org//NONSGML kigkonsult.se iCalcreator 2.30.10//
CALSCALE:GREGORIAN
METHOD:PUBLISH
UID:77c69ddd-e5c4-4112-a3ed-1e7b26b18ccb
X-WR-CALDESC:Insight Memory Care Center will offer free\, confidential memo
 ry screenings and educational materials to people with concerns about thei
 r memory or who want to check their memory now for future comparison. \n\n
 Register for a 30 minute time slot between 10:00am-2:00pm by calling 703-9
 70-3601.
X-WR-RELCALID:7964eb9960dfc6dbe98110a36053eec8
X-WR-TIMEZONE:America/New_York
BEGIN:VTIMEZONE
TZID:America/New_York
BEGIN:STANDARD
TZNAME:EST
DTSTART:20221106T020000
TZOFFSETFROM:-0400
TZOFFSETTO:-0500
RDATE:20231105T020000
RDATE:20241103T020000
END:STANDARD
BEGIN:DAYLIGHT
TZNAME:EDT
DTSTART:20230312T020000
TZOFFSETFROM:-0500
TZOFFSETTO:-0400
RDATE:20240310T020000
RDATE:20250309T020000
END:DAYLIGHT
END:VTIMEZONE
BEGIN:VEVENT
UID:562db42b-7539-4b02-91ca-65a4a20d8f2b
DTSTAMP:20260421T233118Z
DESCRIPTION:Insight Memory Care Center will offer free\, confidential memor
 y screenings and educational materials to people with concerns about their
  memory or who want to check their memory now for future comparison. \n\nR
 egister for a 30 minute time slot between 10:00am-2:00pm by calling 703-97
 0-3601.
DTSTART;TZID=America/New_York:20231016T100000
DTEND;TZID=America/New_York:20231016T140000
LOCATION:Wellness Center for Older Adults (WCOA)\, 4027B Olley Lane\, Fairf
 ax \, VA 22032 US
SUMMARY:Memory Screenings at WCOA
END:VEVENT
END:VCALENDAR
