BEGIN:VCALENDAR
VERSION:2.0
PRODID:-//www.insightmcc.org//NONSGML kigkonsult.se iCalcreator 2.30.10//
CALSCALE:GREGORIAN
METHOD:PUBLISH
UID:63758893-ecdb-429a-86ef-b05b3f82c8df
X-WR-CALDESC:All are welcome to attend this support group for family and fr
 iends of those with dementia and other memory impairments. This group allo
 ws care partners to problem-solve\, discuss issues\, and connect with each
  other regarding dementia in every-day life. This group will also include 
 practical resources and guest speakers throughout the year.\n\nThis group 
 meets virtually on the first and third Thursdays. All support groups are f
 ree and open to the public. Please register and you'll receive Zoom inform
 ation to join!\n\n&nbsp\;\n<strong><a href='https://insightmemory.app.neon
 crm.com/eventReg.jsp?event=783&' target='_blank' class='button' rel='noref
 errer noopener'>Sign Me Up!</a></strong>
X-WR-RELCALID:76760de4ea8e5c4bf0f09da520ea43e1
X-WR-TIMEZONE:America/New_York
BEGIN:VTIMEZONE
TZID:America/New_York
BEGIN:STANDARD
TZNAME:EST
DTSTART:20221106T020000
TZOFFSETFROM:-0400
TZOFFSETTO:-0500
RDATE:20231105T020000
RDATE:20241103T020000
END:STANDARD
BEGIN:DAYLIGHT
TZNAME:EDT
DTSTART:20230312T020000
TZOFFSETFROM:-0500
TZOFFSETTO:-0400
RDATE:20240310T020000
RDATE:20250309T020000
END:DAYLIGHT
END:VTIMEZONE
BEGIN:VEVENT
UID:66eda1d7-26f2-4e27-8c8f-0cd14d1d00dc
DTSTAMP:20260421T234518Z
DESCRIPTION:All are welcome to attend this support group for family and fri
 ends of those with dementia and other memory impairments. This group allow
 s care partners to problem-solve\, discuss issues\, and connect with each 
 other regarding dementia in every-day life. This group will also include p
 ractical resources and guest speakers throughout the year.\n\nThis group m
 eets virtually on the first and third Thursdays. All support groups are fr
 ee and open to the public. Please register and you'll receive Zoom informa
 tion to join!\n\n&nbsp\;\n<strong><a href='https://insightmemory.app.neonc
 rm.com/eventReg.jsp?event=783&' target='_blank' class='button' rel='norefe
 rrer noopener'>Sign Me Up!</a></strong>
DTSTART;TZID=America/New_York:20231019T140000
DTEND;TZID=America/New_York:20231019T153000
LOCATION:Virtual
SUMMARY:Dementia Support Group
END:VEVENT
END:VCALENDAR
