BEGIN:VCALENDAR
VERSION:2.0
PRODID:-//www.insightmcc.org//NONSGML kigkonsult.se iCalcreator 2.30.10//
CALSCALE:GREGORIAN
METHOD:PUBLISH
UID:7df88063-be09-417e-87d4-87c48f81350f
X-WR-CALDESC:DFA Northern Prince George's County presents a virtual educati
 on event covering mental health and suicide prevention in older adults. Ou
 r emotional\, psychological\, and social well-being are all part of our me
 ntal health. It influences how we think\, feel\, and act\, as well as how 
 we handle stress\, interact with others\, and make decisions. Join us to l
 earn about mental health in minority communities and suicide prevention in
  older adults.\n\nPresented by Melissa Long\, Director of Education and Su
 pport and Insight Memory Care Center.
X-WR-RELCALID:f4a31cbc5e3ac9ec121c70d20f25ebd5
X-WR-TIMEZONE:America/New_York
BEGIN:VTIMEZONE
TZID:America/New_York
BEGIN:STANDARD
TZNAME:EST
DTSTART:20221106T020000
TZOFFSETFROM:-0400
TZOFFSETTO:-0500
RDATE:20231105T020000
RDATE:20241103T020000
END:STANDARD
BEGIN:DAYLIGHT
TZNAME:EDT
DTSTART:20230312T020000
TZOFFSETFROM:-0500
TZOFFSETTO:-0400
RDATE:20240310T020000
RDATE:20250309T020000
END:DAYLIGHT
END:VTIMEZONE
BEGIN:VEVENT
UID:81984398-d36a-473a-9d3e-365fb6669377
DTSTAMP:20260421T235110Z
DESCRIPTION:DFA Northern Prince George's County presents a virtual educatio
 n event covering mental health and suicide prevention in older adults. Our
  emotional\, psychological\, and social well-being are all part of our men
 tal health. It influences how we think\, feel\, and act\, as well as how w
 e handle stress\, interact with others\, and make decisions. Join us to le
 arn about mental health in minority communities and suicide prevention in 
 older adults.\n\nPresented by Melissa Long\, Director of Education and Sup
 port and Insight Memory Care Center.
DTSTART;TZID=America/New_York:20231019T190000
DTEND;TZID=America/New_York:20231019T200000
LOCATION:
SUMMARY:Mental Health and Suicide Prevention in Older Adults
END:VEVENT
END:VCALENDAR
