BEGIN:VCALENDAR
VERSION:2.0
PRODID:-//www.insightmcc.org//NONSGML kigkonsult.se iCalcreator 2.30.10//
CALSCALE:GREGORIAN
METHOD:PUBLISH
UID:7e477929-dc78-4717-8bf0-abd3109c8f24
X-WR-CALDESC:<h6>New Night\, New Location!</h6>\n\nWe're excited for a new 
 night (hello weekend!) and new location (between our Fairfax and Sterling 
 centers) to help more friends come and celebrate with us. What hasn't chan
 ged is the fantastic evening of celebrating Insight's work in the communit
 y! Guests will enjoy great food\, live and virtual auctions\, networking\,
  and a wonderful program highlighting dementia care in our community.\n\n<
 strong>5:30 | COCKTAIL RECEPTION</strong>\nSilent auction\, live music\, n
 etworking\, passed hors d’oeuvres and paired wines\n\n<strong>7:30 | THREE
 -COURSE DINNER</strong>\nSeasonal salad\, delicious meal and dessert to en
 joy at your table\n\n<strong>8:00 | GALA PROGRAM</strong>\nSponsor Recogni
 tion\, Excellence In Memory Care Awards\, and Live Auction\n\nCocktail att
 ire preferred.\n\nAll proceeds from the event benefit Insight Memory Care 
 Center\, a nonprofit adult day health and resource center. Help us achieve
  our vision of a community where those affected by memory impairments can 
 achieve the highest quality of life.\n
X-WR-RELCALID:5a637940d8f8594b3fc760917ff7eceb
X-WR-TIMEZONE:America/New_York
BEGIN:VTIMEZONE
TZID:America/New_York
BEGIN:STANDARD
TZNAME:EST
DTSTART:20221106T020000
TZOFFSETFROM:-0400
TZOFFSETTO:-0500
RDATE:20231105T020000
RDATE:20241103T020000
END:STANDARD
BEGIN:DAYLIGHT
TZNAME:EDT
DTSTART:20230312T020000
TZOFFSETFROM:-0500
TZOFFSETTO:-0400
RDATE:20240310T020000
RDATE:20250309T020000
END:DAYLIGHT
END:VTIMEZONE
BEGIN:VEVENT
UID:077c2b42-4440-4bcf-9d47-724215cbf87b
DTSTAMP:20260421T233154Z
DESCRIPTION:<h6>New Night\, New Location!</h6>\n\nWe're excited for a new n
 ight (hello weekend!) and new location (between our Fairfax and Sterling c
 enters) to help more friends come and celebrate with us. What hasn't chang
 ed is the fantastic evening of celebrating Insight's work in the community
 ! Guests will enjoy great food\, live and virtual auctions\, networking\, 
 and a wonderful program highlighting dementia care in our community.\n\n<s
 trong>5:30 | COCKTAIL RECEPTION</strong>\nSilent auction\, live music\, ne
 tworking\, passed hors d’oeuvres and paired wines\n\n<strong>7:30 | THREE-
 COURSE DINNER</strong>\nSeasonal salad\, delicious meal and dessert to enj
 oy at your table\n\n<strong>8:00 | GALA PROGRAM</strong>\nSponsor Recognit
 ion\, Excellence In Memory Care Awards\, and Live Auction\n\nCocktail atti
 re preferred.\n\nAll proceeds from the event benefit Insight Memory Care C
 enter\, a nonprofit adult day health and resource center. Help us achieve 
 our vision of a community where those affected by memory impairments can a
 chieve the highest quality of life.\n
DTSTART;TZID=America/New_York:20231020T173000
DTEND;TZID=America/New_York:20231020T210000
LOCATION:Westfields Marriott\, 14750 Conference Center Drive\, Chantilly\, 
 VA 20151 US
SUMMARY:Paintings & Pairings
END:VEVENT
END:VCALENDAR
