BEGIN:VCALENDAR
VERSION:2.0
PRODID:-//www.insightmcc.org//NONSGML kigkonsult.se iCalcreator 2.30.10//
CALSCALE:GREGORIAN
METHOD:PUBLISH
UID:19f28052-6966-4c9d-afc7-a8807b42456d
X-WR-CALDESC:Medicare 2024 – Do you know all the pieces regarding enrollmen
 t?\n\nAre you enrolling in Medicare for the first time or doing some resea
 rch on the best options for you for 2024? Medicare open enrollment for 202
 4 is coming soon. The annual open enrollment period runs from October 15th
  to December 7th.      \n\nThis virtual presentation with Kevin Chaikin\, 
 Licensed Insurance Agent with Medicare Portal\, answers the top five frequ
 ently asked questions by Medicare beneficiaries\, discusses the basics of 
 Medicare\, and identifies key milestones and decision points that are crit
 ical to get the most out of Medicare and supplemental insurance programs.
 \n\n<b>Presenter</b>\nKevin Chaikin\, Licensed Insurance Agent with Medica
 re Portal\, focuses on the education and enrollment of individuals into Me
 dicare. Inspired by his own family member’s frustrating experience with Me
 dicare\, Kevin committed himself to helping others avoid the stress and co
 stly mistakes that can be experienced when navigating Medicare alone. Comp
 assionate in his approach\, Kevin takes time to understand a beneficiary’s
  health and financial needs to ensure a smooth transition into Medicare\, 
 where the goal is to help find coverage that is both comprehensive and cos
 t-effective.\n\n\n&nbsp\;\n<strong><a href='https://insightmemory.app.neon
 crm.com/eventReg.jsp?event=1097&' class='button'>Sign Me Up </a></strong>
X-WR-RELCALID:5c5c82bf6657953cec7606f45c22dc5e
X-WR-TIMEZONE:America/New_York
BEGIN:VTIMEZONE
TZID:America/New_York
BEGIN:STANDARD
TZNAME:EST
DTSTART:20221106T020000
TZOFFSETFROM:-0400
TZOFFSETTO:-0500
RDATE:20231105T020000
RDATE:20241103T020000
END:STANDARD
BEGIN:DAYLIGHT
TZNAME:EDT
DTSTART:20230312T020000
TZOFFSETFROM:-0500
TZOFFSETTO:-0400
RDATE:20240310T020000
RDATE:20250309T020000
END:DAYLIGHT
END:VTIMEZONE
BEGIN:VEVENT
UID:34807236-a775-44dd-8853-363733793103
DTSTAMP:20260421T233506Z
DESCRIPTION:Medicare 2024 – Do you know all the pieces regarding enrollment
 ?\n\nAre you enrolling in Medicare for the first time or doing some resear
 ch on the best options for you for 2024? Medicare open enrollment for 2024
  is coming soon. The annual open enrollment period runs from October 15th 
 to December 7th.      \n\nThis virtual presentation with Kevin Chaikin\, L
 icensed Insurance Agent with Medicare Portal\, answers the top five freque
 ntly asked questions by Medicare beneficiaries\, discusses the basics of M
 edicare\, and identifies key milestones and decision points that are criti
 cal to get the most out of Medicare and supplemental insurance programs.\n
 \n<b>Presenter</b>\nKevin Chaikin\, Licensed Insurance Agent with Medicare
  Portal\, focuses on the education and enrollment of individuals into Medi
 care. Inspired by his own family member’s frustrating experience with Medi
 care\, Kevin committed himself to helping others avoid the stress and cost
 ly mistakes that can be experienced when navigating Medicare alone. Compas
 sionate in his approach\, Kevin takes time to understand a beneficiary’s h
 ealth and financial needs to ensure a smooth transition into Medicare\, wh
 ere the goal is to help find coverage that is both comprehensive and cost-
 effective.\n\n\n&nbsp\;\n<strong><a href='https://insightmemory.app.neoncr
 m.com/eventReg.jsp?event=1097&' class='button'>Sign Me Up </a></strong>
DTSTART;TZID=America/New_York:20231024T180000
DTEND;TZID=America/New_York:20231024T190000
LOCATION:
SUMMARY:Medicare 2024 - Ready to Enroll? Virtual Presentation
END:VEVENT
END:VCALENDAR
