BEGIN:VCALENDAR
VERSION:2.0
PRODID:-//www.insightmcc.org//NONSGML kigkonsult.se iCalcreator 2.30.10//
CALSCALE:GREGORIAN
METHOD:PUBLISH
UID:91c9972f-58c5-403a-889d-dfe42e9ee88f
X-WR-CALDESC:Learn the basics of dementia\, including Alzheimer’s disease a
 nd other dementias. While not everyone travels the same path\, come and le
 arn about the general stages to help you anticipate future changes.\n\nThi
 s program is presented by the Insight Memory Care Team at the Green Acres 
 Community Center.
X-WR-RELCALID:0f0155f101431ada46f825dd1d8374be
X-WR-TIMEZONE:America/New_York
BEGIN:VTIMEZONE
TZID:America/New_York
BEGIN:STANDARD
TZNAME:EST
DTSTART:20221106T020000
TZOFFSETFROM:-0400
TZOFFSETTO:-0500
RDATE:20231105T020000
RDATE:20241103T020000
END:STANDARD
BEGIN:DAYLIGHT
TZNAME:EDT
DTSTART:20230312T020000
TZOFFSETFROM:-0500
TZOFFSETTO:-0400
RDATE:20240310T020000
RDATE:20250309T020000
END:DAYLIGHT
END:VTIMEZONE
BEGIN:VEVENT
UID:158c2d0c-c523-4f36-baf8-5d844a2b9587
DTSTAMP:20260421T221831Z
DESCRIPTION:Learn the basics of dementia\, including Alzheimer’s disease an
 d other dementias. While not everyone travels the same path\, come and lea
 rn about the general stages to help you anticipate future changes.\n\nThis
  program is presented by the Insight Memory Care Team at the Green Acres C
 ommunity Center.
DTSTART;TZID=America/New_York:20231102T143000
DTEND;TZID=America/New_York:20231102T153000
LOCATION:Green Acres Community Center\, 4401 Sideburn Road\, Fairfax\, VA 2
 2030 US
SUMMARY:Dementia 101
END:VEVENT
END:VCALENDAR
