BEGIN:VCALENDAR
VERSION:2.0
PRODID:-//www.insightmcc.org//NONSGML kigkonsult.se iCalcreator 2.30.10//
CALSCALE:GREGORIAN
METHOD:PUBLISH
UID:82549ee3-2e5d-49af-b5ec-9bb9e90ec89e
X-WR-CALDESC:*Rescheduled from 9/23*\n\nAs a part of our Fall Caregiver Boo
 tcamp\, Driver Rehabilitation Center of Excellence is offering CarFit\, an
  educational program that offers older adults the opportunity to check how
  well their personal vehicles 'fit' them. The program also provides inform
 ation and materials on community-specific resources that could enhance the
 ir safety as drivers and/or increase their mobility in the community.\n\nS
 ign up for a specific time slot\; only two are available each half-hour. Y
 ou are welcome to attend our Caregiver Bootcamp as well\, or just take adv
 antage of a CarFit session!\n\n&nbsp\;\n<strong><a href='https://insightme
 mory.app.neoncrm.com/eventReg.jsp?event=1040&' target='_blank' class='butt
 on' rel='noreferrer noopener'>Sign Me Up!</a></strong>
X-WR-RELCALID:dbb953704b9b6342698bde192aaa7ec0
X-WR-TIMEZONE:America/New_York
BEGIN:VTIMEZONE
TZID:America/New_York
BEGIN:STANDARD
TZNAME:EST
DTSTART:20221106T020000
TZOFFSETFROM:-0400
TZOFFSETTO:-0500
RDATE:20231105T020000
RDATE:20241103T020000
END:STANDARD
BEGIN:DAYLIGHT
TZNAME:EDT
DTSTART:20230312T020000
TZOFFSETFROM:-0500
TZOFFSETTO:-0400
RDATE:20240310T020000
RDATE:20250309T020000
END:DAYLIGHT
END:VTIMEZONE
BEGIN:VEVENT
UID:44e85c3f-29ab-475b-9bf0-61e67404a858
DTSTAMP:20260421T222031Z
DESCRIPTION:*Rescheduled from 9/23*\n\nAs a part of our Fall Caregiver Boot
 camp\, Driver Rehabilitation Center of Excellence is offering CarFit\, an 
 educational program that offers older adults the opportunity to check how 
 well their personal vehicles 'fit' them. The program also provides informa
 tion and materials on community-specific resources that could enhance thei
 r safety as drivers and/or increase their mobility in the community.\n\nSi
 gn up for a specific time slot\; only two are available each half-hour. Yo
 u are welcome to attend our Caregiver Bootcamp as well\, or just take adva
 ntage of a CarFit session!\n\n&nbsp\;\n<strong><a href='https://insightmem
 ory.app.neoncrm.com/eventReg.jsp?event=1040&' target='_blank' class='butto
 n' rel='noreferrer noopener'>Sign Me Up!</a></strong>
DTSTART;TZID=America/New_York:20231104T090000
DTEND;TZID=America/New_York:20231104T120000
LOCATION:Insight - Fairfax\, 3955 Pender Drive\, Suite 100\, Fairfax\, VA 2
 2030 US
SUMMARY:Caregiver Bootcamp - CarFit Sessions
END:VEVENT
END:VCALENDAR
