BEGIN:VCALENDAR
VERSION:2.0
PRODID:-//www.insightmcc.org//NONSGML kigkonsult.se iCalcreator 2.30.10//
CALSCALE:GREGORIAN
METHOD:PUBLISH
UID:d64a6946-c52e-4e4a-83c2-5432ec5a5147
X-WR-CALDESC:*Rescheduled from 9/23!*\n\nJoin IMCC for a free\, special mor
 ning training event covering many essential caregiving topics! For the  Fa
 ll 2023 session\, we'll be focused on providing tools for everyday caregiv
 ing questions! Learn actionable tips and ideas you can use to tackle careg
 iving challenges at home.\n\nTopics for this session include:\n\n<strong>W
 hat Do I Ask the Neurologist?</strong>\n<em>Presented by: Dr. Jennifer Pau
 ldurai</em>\nA diagnosis of dementia\, whether your own or a loved one’s\,
  may leave everyone involved feeling overwhelmed\, anxious and uncertain a
 bout what the future will hold. It’s important to gather as much informati
 on from your doctor as you can. Asking the right questions can help you na
 vigate your appointments and this journey.\n\n<strong>When is the right ti
 me to move?</strong>\n<em>Presented by: Pathways in Aging</em>\nWhile many
  seniors with early-stage dementia can live independently or with some hel
 p\, those with greater cognitive decline may need assistance from trained 
 professionals in memory care communities. Let’s talk and learn when is the
  right time. \n\n<strong>How Do I Tackle Decluttering?</strong>\n<em>Prese
 nted by: Artifcts</em>\nFrom saving memories while decluttering to preserv
 ing the value behind your things\, Artifcts gives you a digital way to org
 anize stuff and capture the meaning behind objects. Bring an item from hom
 e you would like to capture and tell a story about!\n\n<strong>Are you sti
 ll driving? Does your vehicle fit you?</strong>\n<em>Presented by: Driver 
 Rehabilitation Center of Excellence\, LLC</em>\nCarFit is an educational p
 rogram that offers older adults the opportunity to check how well their pe
 rsonal vehicles 'fit' them. The program also provides information and mate
 rials on community-specific resources that could enhance their safety as d
 rivers and/or increase their mobility in the community. <a href='https://w
 ww.insightmcc.org/get-involved/events/event_calendar.html/event/2023/11/04
 /caregiver-bootcamp-carfit-sessions/454349' target='_blank' rel='noreferre
 r noopener'>You can register for a specific timeslot here!</a>\n\n\nThere 
 will also be a door prize from Artifcts!\n\n<b>Sponsored by Silverado Alex
 andria Memory Care Community!</b>\n\n&nbsp\;\n<strong><a href='https://ins
 ightmemory.app.neoncrm.com/eventReg.jsp?event=909&' target='_blank' class=
 'button' rel='noreferrer noopener'>Sign Me Up!</a></strong>
X-WR-RELCALID:61131234ddafbd661a8eb8b7c15e886a
X-WR-TIMEZONE:America/New_York
BEGIN:VTIMEZONE
TZID:America/New_York
BEGIN:STANDARD
TZNAME:EST
DTSTART:20221106T020000
TZOFFSETFROM:-0400
TZOFFSETTO:-0500
RDATE:20231105T020000
RDATE:20241103T020000
END:STANDARD
BEGIN:DAYLIGHT
TZNAME:EDT
DTSTART:20230312T020000
TZOFFSETFROM:-0500
TZOFFSETTO:-0400
RDATE:20240310T020000
RDATE:20250309T020000
END:DAYLIGHT
END:VTIMEZONE
BEGIN:VEVENT
UID:9f89a16d-58e6-4f1b-bf86-09454f380f9d
DTSTAMP:20260421T221810Z
DESCRIPTION:*Rescheduled from 9/23!*\n\nJoin IMCC for a free\, special morn
 ing training event covering many essential caregiving topics! For the  Fal
 l 2023 session\, we'll be focused on providing tools for everyday caregivi
 ng questions! Learn actionable tips and ideas you can use to tackle caregi
 ving challenges at home.\n\nTopics for this session include:\n\n<strong>Wh
 at Do I Ask the Neurologist?</strong>\n<em>Presented by: Dr. Jennifer Paul
 durai</em>\nA diagnosis of dementia\, whether your own or a loved one’s\, 
 may leave everyone involved feeling overwhelmed\, anxious and uncertain ab
 out what the future will hold. It’s important to gather as much informatio
 n from your doctor as you can. Asking the right questions can help you nav
 igate your appointments and this journey.\n\n<strong>When is the right tim
 e to move?</strong>\n<em>Presented by: Pathways in Aging</em>\nWhile many 
 seniors with early-stage dementia can live independently or with some help
 \, those with greater cognitive decline may need assistance from trained p
 rofessionals in memory care communities. Let’s talk and learn when is the 
 right time. \n\n<strong>How Do I Tackle Decluttering?</strong>\n<em>Presen
 ted by: Artifcts</em>\nFrom saving memories while decluttering to preservi
 ng the value behind your things\, Artifcts gives you a digital way to orga
 nize stuff and capture the meaning behind objects. Bring an item from home
  you would like to capture and tell a story about!\n\n<strong>Are you stil
 l driving? Does your vehicle fit you?</strong>\n<em>Presented by: Driver R
 ehabilitation Center of Excellence\, LLC</em>\nCarFit is an educational pr
 ogram that offers older adults the opportunity to check how well their per
 sonal vehicles 'fit' them. The program also provides information and mater
 ials on community-specific resources that could enhance their safety as dr
 ivers and/or increase their mobility in the community. <a href='https://ww
 w.insightmcc.org/get-involved/events/event_calendar.html/event/2023/11/04/
 caregiver-bootcamp-carfit-sessions/454349' target='_blank' rel='noreferrer
  noopener'>You can register for a specific timeslot here!</a>\n\n\nThere w
 ill also be a door prize from Artifcts!\n\n<b>Sponsored by Silverado Alexa
 ndria Memory Care Community!</b>\n\n&nbsp\;\n<strong><a href='https://insi
 ghtmemory.app.neoncrm.com/eventReg.jsp?event=909&' target='_blank' class='
 button' rel='noreferrer noopener'>Sign Me Up!</a></strong>
DTSTART;TZID=America/New_York:20231104T090000
DTEND;TZID=America/New_York:20231104T120000
LOCATION:Insight - Fairfax\, 3953 Pender Drive Suite 100\, Fairfax\, VA 220
 30 US
SUMMARY:Caregiver Bootcamp
END:VEVENT
END:VCALENDAR
