BEGIN:VCALENDAR
VERSION:2.0
PRODID:-//www.insightmcc.org//NONSGML kigkonsult.se iCalcreator 2.30.10//
CALSCALE:GREGORIAN
METHOD:PUBLISH
UID:9117645c-ddd8-4e50-ae49-69849aa05bd5
X-WR-CALDESC:Join us for a special viewing of the film\, Glen Campbell: I’l
 l Be Me! This free event will be held at The Virginian in Fairfax with a Q
 &A after the movie screening with the Alzheimer’s Foundation. This event i
 s offered in partnership with AARP Virginia.\n\n<h6>About the film</h6>\n 
 Musician Glen Campbell starts a farewell tour after he is diagnosed with A
 lzheimer’s disease\, and he and his family navigate the unpredictable natu
 re of the disease through love\, laughter and music. The film was conceive
 d as a behind-the-scenes record both of that final tour and of the difficu
 lt struggle of Mr. Campbell and his family against an incurable disease th
 at afflicts more than five million Americans.\n\n“Glen Campbell … I’ll Be 
 Me” blends intimate and unflinching medical details\, poignant performance
  footage and a survey of its subject’s place in musical history through we
 ll-chosen archival footage and interviews with other iconic performers.\n
 \n&nbsp\;\n<strong><a href='https://insightmemory.app.neoncrm.com/eventReg
 .jsp?event=974&' class='button'>Sign Me Up - In Person</a></strong>\n\n<st
 rong><a href='https://insightmemory.app.neoncrm.com/eventReg.jsp?event=984
 &' class='button'>Sign Me Up - Virtual</a></strong>\n
X-WR-RELCALID:ffc9e018f6ceafe7eceab11c317592f2
X-WR-TIMEZONE:America/New_York
BEGIN:VTIMEZONE
TZID:America/New_York
BEGIN:STANDARD
TZNAME:EST
DTSTART:20231105T020000
TZOFFSETFROM:-0400
TZOFFSETTO:-0500
RDATE:20241103T020000
END:STANDARD
BEGIN:DAYLIGHT
TZNAME:EDT
DTSTART:20230312T020000
TZOFFSETFROM:-0500
TZOFFSETTO:-0400
RDATE:20240310T020000
RDATE:20250309T020000
END:DAYLIGHT
END:VTIMEZONE
BEGIN:VEVENT
UID:f828080a-fefe-4f9c-a5ba-5487d4d770c6
DTSTAMP:20260421T224233Z
DESCRIPTION:Join us for a special viewing of the film\, Glen Campbell: I’ll
  Be Me! This free event will be held at The Virginian in Fairfax with a Q&
 A after the movie screening with the Alzheimer’s Foundation. This event is
  offered in partnership with AARP Virginia.\n\n<h6>About the film</h6>\n M
 usician Glen Campbell starts a farewell tour after he is diagnosed with Al
 zheimer’s disease\, and he and his family navigate the unpredictable natur
 e of the disease through love\, laughter and music. The film was conceived
  as a behind-the-scenes record both of that final tour and of the difficul
 t struggle of Mr. Campbell and his family against an incurable disease tha
 t afflicts more than five million Americans.\n\n“Glen Campbell … I’ll Be M
 e” blends intimate and unflinching medical details\, poignant performance 
 footage and a survey of its subject’s place in musical history through wel
 l-chosen archival footage and interviews with other iconic performers.\n\n
 &nbsp\;\n<strong><a href='https://insightmemory.app.neoncrm.com/eventReg.j
 sp?event=974&' class='button'>Sign Me Up - In Person</a></strong>\n\n<stro
 ng><a href='https://insightmemory.app.neoncrm.com/eventReg.jsp?event=984&'
  class='button'>Sign Me Up - Virtual</a></strong>\n
DTSTART;TZID=America/New_York:20231109T180000
DTEND;TZID=America/New_York:20231109T200000
LOCATION:The Virginian\, 9229 Arlington Blvd\, Fairfax\, VA 22031 US
SUMMARY:Glen Campbell - I'll Be Me: Film Screening and Q&A
END:VEVENT
END:VCALENDAR
