BEGIN:VCALENDAR
VERSION:2.0
PRODID:-//www.insightmcc.org//NONSGML kigkonsult.se iCalcreator 2.30.10//
CALSCALE:GREGORIAN
METHOD:PUBLISH
UID:5a3a7f1c-e3db-4f54-b806-df19e650ef99
X-WR-CALDESC:This group will offer a safe\, welcoming and private setting f
 or caregivers to share their caregiving experiences\, connect with others 
 going through the same journey and receive insight from an expert.\n\nGrou
 p meets the 2nd Thursday of the month. For the November 2023 session the p
 resentation will be How to Navigate the Holidays.
X-WR-RELCALID:6f9194787f8e09fba5dcde90ebf0481e
X-WR-TIMEZONE:America/New_York
BEGIN:VTIMEZONE
TZID:America/New_York
BEGIN:STANDARD
TZNAME:EST
DTSTART:20231105T020000
TZOFFSETFROM:-0400
TZOFFSETTO:-0500
RDATE:20241103T020000
END:STANDARD
BEGIN:DAYLIGHT
TZNAME:EDT
DTSTART:20230312T020000
TZOFFSETFROM:-0500
TZOFFSETTO:-0400
RDATE:20240310T020000
RDATE:20250309T020000
END:DAYLIGHT
END:VTIMEZONE
BEGIN:VEVENT
UID:7fa9371e-d7b0-4752-8fe4-59c1017e7ade
DTSTAMP:20260423T084408Z
DESCRIPTION:This group will offer a safe\, welcoming and private setting fo
 r caregivers to share their caregiving experiences\, connect with others g
 oing through the same journey and receive insight from an expert.\n\nGroup
  meets the 2nd Thursday of the month. For the November 2023 session the pr
 esentation will be How to Navigate the Holidays.
DTSTART;TZID=America/New_York:20231109T150000
DTEND;TZID=America/New_York:20231109T160000
LOCATION:Great Falls Assisted Living\, 1121 Reston Ave\, Herndon\, VA 20170
  US
SUMMARY:How to Navigate the Holidays
END:VEVENT
END:VCALENDAR
