BEGIN:VCALENDAR
VERSION:2.0
PRODID:-//www.insightmcc.org//NONSGML kigkonsult.se iCalcreator 2.30.10//
CALSCALE:GREGORIAN
METHOD:PUBLISH
UID:99e46bf9-1cca-46df-b1e4-f33d2c6239cc
X-WR-CALDESC:The café is an opportunity for caregivers and their loved one 
 with mild cognitive impairment (MCI) or in the early to early mid-stage of
  their dementia journey to meet with others for support\, companionship\, 
 and fun! The program provides structured activities to promote reminiscenc
 e\, cognition\, and engagement. There is also time to share in conversatio
 n and get to know others in a safe\, supportive environment.\n\nThe Memory
  Cafe at Falls Church Arts meets on the second and fourth Fridays of the m
 onth. This group is offered in partnership between Insight and The Kensing
 ton Falls Church. Insight staff will lead engaging brain games during the 
 2nd Friday session\, and Sally Evans\, Falls Church Arts Instructor will l
 ead arts activities during the 4th Friday session.\n<b> This will be the l
 ast Falls Church Arts Memory Cafe for 2023\, we will resume in January 202
 4!</b>\n\nTo ensure we have space and program supplies for each participan
 t\, we ask that you please register in advance. We look forward to seeing 
 you at the next cafe!\n\n\n
X-WR-RELCALID:fa0dc64f81c8bfdf7690a00dc47546e2
X-WR-TIMEZONE:America/New_York
BEGIN:VTIMEZONE
TZID:America/New_York
BEGIN:STANDARD
TZNAME:EST
DTSTART:20231105T020000
TZOFFSETFROM:-0400
TZOFFSETTO:-0500
RDATE:20241103T020000
END:STANDARD
BEGIN:DAYLIGHT
TZNAME:EDT
DTSTART:20230312T020000
TZOFFSETFROM:-0500
TZOFFSETTO:-0400
RDATE:20240310T020000
RDATE:20250309T020000
END:DAYLIGHT
END:VTIMEZONE
BEGIN:VEVENT
UID:cb6eca33-8ca4-46f8-a5ad-a1395cde4a89
DTSTAMP:20260421T222511Z
DESCRIPTION:The café is an opportunity for caregivers and their loved one w
 ith mild cognitive impairment (MCI) or in the early to early mid-stage of 
 their dementia journey to meet with others for support\, companionship\, a
 nd fun! The program provides structured activities to promote reminiscence
 \, cognition\, and engagement. There is also time to share in conversation
  and get to know others in a safe\, supportive environment.\n\nThe Memory 
 Cafe at Falls Church Arts meets on the second and fourth Fridays of the mo
 nth. This group is offered in partnership between Insight and The Kensingt
 on Falls Church. Insight staff will lead engaging brain games during the 2
 nd Friday session\, and Sally Evans\, Falls Church Arts Instructor will le
 ad arts activities during the 4th Friday session.\n<b> This will be the la
 st Falls Church Arts Memory Cafe for 2023\, we will resume in January 2024
 !</b>\n\nTo ensure we have space and program supplies for each participant
 \, we ask that you please register in advance. We look forward to seeing y
 ou at the next cafe!\n\n\n
DTSTART;TZID=America/New_York:20231110T103000
DTEND;TZID=America/New_York:20231110T113000
LOCATION:Falls Church Arts\, 700-B W. Broad Street\, Falls Church\, VA 2204
 6 US
SUMMARY:Memory Cafe at Falls Church Arts
END:VEVENT
END:VCALENDAR
