BEGIN:VCALENDAR
VERSION:2.0
PRODID:-//www.insightmcc.org//NONSGML kigkonsult.se iCalcreator 2.30.10//
CALSCALE:GREGORIAN
METHOD:PUBLISH
UID:e285aa24-6a36-4e0a-9edb-e66d1b247e02
X-WR-CALDESC:Insight will be closed for Veteran's Day. Enjoy your holiday!
X-WR-RELCALID:c681ad12225a6c0833254461e888c7f5
X-WR-TIMEZONE:America/New_York
BEGIN:VTIMEZONE
TZID:America/New_York
BEGIN:STANDARD
TZNAME:EST
DTSTART:20231105T020000
TZOFFSETFROM:-0400
TZOFFSETTO:-0500
RDATE:20241103T020000
END:STANDARD
BEGIN:DAYLIGHT
TZNAME:EDT
DTSTART:20230312T020000
TZOFFSETFROM:-0500
TZOFFSETTO:-0400
RDATE:20240310T020000
RDATE:20250309T020000
END:DAYLIGHT
END:VTIMEZONE
BEGIN:VEVENT
UID:2ba32977-ad8d-48cf-a434-f11c0939a9c9
DTSTAMP:20260421T221812Z
DESCRIPTION:Insight will be closed for Veteran's Day. Enjoy your holiday!
DTSTART;TZID=America/New_York:20231110T000000
DTEND;TZID=America/New_York:20231110T235900
LOCATION:
SUMMARY:Insight Closed
END:VEVENT
END:VCALENDAR
