BEGIN:VCALENDAR
VERSION:2.0
PRODID:-//www.insightmcc.org//NONSGML kigkonsult.se iCalcreator 2.30.10//
CALSCALE:GREGORIAN
METHOD:PUBLISH
UID:03a9a705-a0d7-49ad-827c-bc32cf27c21a
X-WR-CALDESC:DFA Northern Prince George's County Presents: Alzheimer's Awar
 eness Month Webinar Series\nYou have to register for each session you are 
 interested in attending. Registration links are listed in the related link
 s section at the bottom right corner of this page.\n\nCaregiving – Prepare
  to Care @ 10 AM \nA successful experience in caregiving begins with a car
 efully constructed Care Plan.\n\nLife After Losses @ 11:15 AM \nThrough th
 e practice of resiliency\, we can survive these losses and continue growin
 g and thriving.\n\nBrain and Body: Total Wellness @ 1 PM\nSuccessful aging
  is built on several pillars: mental\, intellectual\, physical\, spiritual
 \, social and emotional wellness.\n\nThe Art of Activities & Engagement @ 
 2:15 PM\nHow can you reconnect with someone with dementia? Keeping their c
 urrent abilities in mind\, learn ways to keep your loved one engaged in pe
 rsonalized activities. *This session is presented by Melissa Long CTRS\, C
 DP\, CADDCT\, BF-CMT\, Director of Education & Support at IMCC!*
X-WR-RELCALID:182b0e2bad29b721c6b9958d0c622d16
X-WR-TIMEZONE:America/New_York
BEGIN:VTIMEZONE
TZID:America/New_York
BEGIN:STANDARD
TZNAME:EST
DTSTART:20231105T020000
TZOFFSETFROM:-0400
TZOFFSETTO:-0500
RDATE:20241103T020000
END:STANDARD
BEGIN:DAYLIGHT
TZNAME:EDT
DTSTART:20230312T020000
TZOFFSETFROM:-0500
TZOFFSETTO:-0400
RDATE:20240310T020000
RDATE:20250309T020000
END:DAYLIGHT
END:VTIMEZONE
BEGIN:VEVENT
UID:9d1ed3b9-4bcd-483b-bde0-d7f3449f7e87
DTSTAMP:20260421T222153Z
DESCRIPTION:DFA Northern Prince George's County Presents: Alzheimer's Aware
 ness Month Webinar Series\nYou have to register for each session you are i
 nterested in attending. Registration links are listed in the related links
  section at the bottom right corner of this page.\n\nCaregiving – Prepare 
 to Care @ 10 AM \nA successful experience in caregiving begins with a care
 fully constructed Care Plan.\n\nLife After Losses @ 11:15 AM \nThrough the
  practice of resiliency\, we can survive these losses and continue growing
  and thriving.\n\nBrain and Body: Total Wellness @ 1 PM\nSuccessful aging 
 is built on several pillars: mental\, intellectual\, physical\, spiritual\
 , social and emotional wellness.\n\nThe Art of Activities & Engagement @ 2
 :15 PM\nHow can you reconnect with someone with dementia? Keeping their cu
 rrent abilities in mind\, learn ways to keep your loved one engaged in per
 sonalized activities. *This session is presented by Melissa Long CTRS\, CD
 P\, CADDCT\, BF-CMT\, Director of Education & Support at IMCC!*
DTSTART;TZID=America/New_York:20231114T100000
DTEND;TZID=America/New_York:20231114T150000
LOCATION:
SUMMARY:Alzheimer's Awareness Month Webinar Series
END:VEVENT
END:VCALENDAR
