BEGIN:VCALENDAR
VERSION:2.0
PRODID:-//www.insightmcc.org//NONSGML kigkonsult.se iCalcreator 2.30.10//
CALSCALE:GREGORIAN
METHOD:PUBLISH
UID:01abb02b-9f01-45f1-ad84-f53f68633bfa
X-WR-CALDESC:Insight will be closed for Thanksgiving. Enjoy your holiday!
X-WR-RELCALID:602f398358b8d5ef570521b10d7df5b0
X-WR-TIMEZONE:America/New_York
BEGIN:VTIMEZONE
TZID:America/New_York
BEGIN:STANDARD
TZNAME:EST
DTSTART:20231105T020000
TZOFFSETFROM:-0400
TZOFFSETTO:-0500
RDATE:20241103T020000
END:STANDARD
BEGIN:DAYLIGHT
TZNAME:EDT
DTSTART:20230312T020000
TZOFFSETFROM:-0500
TZOFFSETTO:-0400
RDATE:20240310T020000
RDATE:20250309T020000
END:DAYLIGHT
END:VTIMEZONE
BEGIN:VEVENT
UID:3e66ffe6-99b8-48c1-b11f-92ab81a11c84
DTSTAMP:20260421T221725Z
DESCRIPTION:Insight will be closed for Thanksgiving. Enjoy your holiday!
DTSTART;TZID=America/New_York:20231123T000000
DTEND;TZID=America/New_York:20231124T235900
LOCATION:
SUMMARY:Insight Closed
END:VEVENT
END:VCALENDAR
