BEGIN:VCALENDAR
VERSION:2.0
PRODID:-//www.insightmcc.org//NONSGML kigkonsult.se iCalcreator 2.30.10//
CALSCALE:GREGORIAN
METHOD:PUBLISH
UID:0d2ef07b-b5f0-4066-ba48-cee16c619148
X-WR-CALDESC:<h6>Celebrate Giving Tuesday with us!</h6>\n\n<strong>Watch Li
 ve!</strong>\nMark your calendars! We'll be live on Facebook on Tuesday\, 
 Nov 28th to celebrate and share gifts and resources with you! \n\n<em><str
 ong>10:00 am</strong></em>\n<strong>Kick Off - Welcome to Giving Tuesday!<
 /strong>\n\n<em><strong>12:00 pm</strong></em>\n<strong>Insight Shopping N
 etwork</strong>\nNeed gift ideas? Practical options for holiday gifts for 
 those living with dementia and their care partners.\n\n<em><strong>2:00 pm
 </strong></em>\n<strong>Interactive Technology at Insight</strong>\nWe wil
 l discuss our newest interactive technology\, Obie for Seniors\, and its r
 ole in maintaining brain health.\n\n<em><strong>3:00 pm</strong></em>\n<st
 rong>Never Too Young to Plan</strong>\nJoin us for a roundtable discussion
  on how to best support the growing dementia care needs for the next gener
 ation.\n\n<strong><a href='https://facebook.com/InsightMCC' target='_blank
 ' class='button' rel='noreferrer noopener'>Watch on Facebook!</a></strong>
 \n\n&nbsp\;\n<p></p>\n<p></p>\n\n\n<p></p>\n<p></p>\n\n<h6>About Giving Tu
 esday</h6>\nGivingTuesday is a global generosity movement unleashing the p
 ower of radical generosity. GivingTuesday was created in 2012 as a simple 
 idea: a day that encourages people to do good. Since then\, it has grown i
 nto a year-round global movement that inspires hundreds of millions of peo
 ple to give\, collaborate\, and celebrate generosity.\n\n<strong>Give Toda
 y!</strong>\n#GivingTuesday is a global day of giving\, celebrating all ac
 ts of giving. Your gift ensures more families get the care\, education\, a
 nd support needed right from the beginning of the journey. Research has sh
 own that cognitive engagement activities can have long lasting\, positive 
 effects on cognition. \n\n<strong><a href='https://insightmcc.org/donate' 
 target='_blank' class='button' rel='noreferrer noopener'>Give Today!</a></
 strong>\n\n
X-WR-RELCALID:0b5eada5d80a0d1223fb83011be11145
X-WR-TIMEZONE:America/New_York
BEGIN:VTIMEZONE
TZID:America/New_York
BEGIN:STANDARD
TZNAME:EST
DTSTART:20231105T020000
TZOFFSETFROM:-0400
TZOFFSETTO:-0500
RDATE:20241103T020000
END:STANDARD
BEGIN:DAYLIGHT
TZNAME:EDT
DTSTART:20230312T020000
TZOFFSETFROM:-0500
TZOFFSETTO:-0400
RDATE:20240310T020000
RDATE:20250309T020000
END:DAYLIGHT
END:VTIMEZONE
BEGIN:VEVENT
UID:351cf20b-337b-4e6d-966a-b2c55fbf50d4
DTSTAMP:20260421T222201Z
DESCRIPTION:<h6>Celebrate Giving Tuesday with us!</h6>\n\n<strong>Watch Liv
 e!</strong>\nMark your calendars! We'll be live on Facebook on Tuesday\, N
 ov 28th to celebrate and share gifts and resources with you! \n\n<em><stro
 ng>10:00 am</strong></em>\n<strong>Kick Off - Welcome to Giving Tuesday!</
 strong>\n\n<em><strong>12:00 pm</strong></em>\n<strong>Insight Shopping Ne
 twork</strong>\nNeed gift ideas? Practical options for holiday gifts for t
 hose living with dementia and their care partners.\n\n<em><strong>2:00 pm<
 /strong></em>\n<strong>Interactive Technology at Insight</strong>\nWe will
  discuss our newest interactive technology\, Obie for Seniors\, and its ro
 le in maintaining brain health.\n\n<em><strong>3:00 pm</strong></em>\n<str
 ong>Never Too Young to Plan</strong>\nJoin us for a roundtable discussion 
 on how to best support the growing dementia care needs for the next genera
 tion.\n\n<strong><a href='https://facebook.com/InsightMCC' target='_blank'
  class='button' rel='noreferrer noopener'>Watch on Facebook!</a></strong>
 \n\n&nbsp\;\n<p></p>\n<p></p>\n\n\n<p></p>\n<p></p>\n\n<h6>About Giving Tu
 esday</h6>\nGivingTuesday is a global generosity movement unleashing the p
 ower of radical generosity. GivingTuesday was created in 2012 as a simple 
 idea: a day that encourages people to do good. Since then\, it has grown i
 nto a year-round global movement that inspires hundreds of millions of peo
 ple to give\, collaborate\, and celebrate generosity.\n\n<strong>Give Toda
 y!</strong>\n#GivingTuesday is a global day of giving\, celebrating all ac
 ts of giving. Your gift ensures more families get the care\, education\, a
 nd support needed right from the beginning of the journey. Research has sh
 own that cognitive engagement activities can have long lasting\, positive 
 effects on cognition. \n\n<strong><a href='https://insightmcc.org/donate' 
 target='_blank' class='button' rel='noreferrer noopener'>Give Today!</a></
 strong>\n\n
DTSTART;TZID=America/New_York:20231128T060000
DTEND;TZID=America/New_York:20231128T060001
LOCATION:https://facebook.com/InsightMCC
SUMMARY:Giving Tuesday: Celebrate with Us!
END:VEVENT
END:VCALENDAR
