BEGIN:VCALENDAR
VERSION:2.0
PRODID:-//www.insightmcc.org//NONSGML kigkonsult.se iCalcreator 2.30.10//
CALSCALE:GREGORIAN
METHOD:PUBLISH
UID:a568919c-b459-4285-90d9-9cc87bc3380e
X-WR-CALDESC:The café is an opportunity for caregivers and their loved one 
 with mild cognitive impairment (MCI) or in the early to early mid-stage of
  their dementia journey to meet with others for support\, companionship\, 
 and fun! The program provides structured activities to promote reminiscenc
 e\, cognition\, and engagement. There is also time to share in conversatio
 n and get to know others in a safe\, supportive environment.\n\nThis cafe 
 meets at Sunrise Oakton the 4th Wednesday of the month. <b> For November w
 e will be meeting on 11/29 due to the Thanksgiving holiday!</b>\n\nTo ensu
 re we have space and program supplies for each participant\, we ask that y
 ou please register in advance. We look forward to seeing you at the next c
 afe!
X-WR-RELCALID:025e36291708cebaec94a7f7af2cf7c0
X-WR-TIMEZONE:America/New_York
BEGIN:VTIMEZONE
TZID:America/New_York
BEGIN:STANDARD
TZNAME:EST
DTSTART:20231105T020000
TZOFFSETFROM:-0400
TZOFFSETTO:-0500
RDATE:20241103T020000
END:STANDARD
BEGIN:DAYLIGHT
TZNAME:EDT
DTSTART:20230312T020000
TZOFFSETFROM:-0500
TZOFFSETTO:-0400
RDATE:20240310T020000
RDATE:20250309T020000
END:DAYLIGHT
END:VTIMEZONE
BEGIN:VEVENT
UID:fbf0b563-c305-4d44-90a3-baa8ff8b12f9
DTSTAMP:20260421T222323Z
DESCRIPTION:The café is an opportunity for caregivers and their loved one w
 ith mild cognitive impairment (MCI) or in the early to early mid-stage of 
 their dementia journey to meet with others for support\, companionship\, a
 nd fun! The program provides structured activities to promote reminiscence
 \, cognition\, and engagement. There is also time to share in conversation
  and get to know others in a safe\, supportive environment.\n\nThis cafe m
 eets at Sunrise Oakton the 4th Wednesday of the month. <b> For November we
  will be meeting on 11/29 due to the Thanksgiving holiday!</b>\n\nTo ensur
 e we have space and program supplies for each participant\, we ask that yo
 u please register in advance. We look forward to seeing you at the next ca
 fe!
DTSTART;TZID=America/New_York:20231129T140000
DTEND;TZID=America/New_York:20231129T150000
LOCATION:2863 Hunter Mill Rd\, Oakton\, VA 22124 US
SUMMARY:Sunrise Oakton Memory Cafe
END:VEVENT
END:VCALENDAR
