BEGIN:VCALENDAR
VERSION:2.0
PRODID:-//www.insightmcc.org//NONSGML kigkonsult.se iCalcreator 2.30.10//
CALSCALE:GREGORIAN
METHOD:PUBLISH
UID:c3cf14a7-9e25-4daf-a53d-7d3e33b0de91
X-WR-CALDESC:As busy care partners\, it’s hard to find time to focus on you
 r own health and well-being - especially when you’re navigating your careg
 iver journey. Join us on the second and fourth Thursday of each month as w
 e make time for ourselves!\n\nGuided meditation sessions for mind and body
  can help you:\n\nObserve yourself comfortably with peace of mind\,\nRelea
 se your stress\, worries\, and negativity\,\nConnect your mind and body to
 gether for energy and power\,\nStimulate your creativity and focus\,\nEnjo
 y more insight and optimism\, and\nRelax and sleep better!\n\nNo previous 
 experience is required! Join us to develop a better ability to relax\, foc
 us\, and find peace of mind as you navigate your caregiving journey with d
 ementia.\n\n<b> This is the rescheduled 2nd session for November to makeup
  for the 11/23 session falling on Thanksgiving! </b>\n\n\n\n<strong><a hre
 f='https://insightmemory.app.neoncrm.com/eventReg.jsp?event=859&' class='b
 utton'>Sign Me Up!</a></strong>\n\n<p></p>
X-WR-RELCALID:2af62fc87d6dbfbe9a9f813da73e549d
X-WR-TIMEZONE:America/New_York
BEGIN:VTIMEZONE
TZID:America/New_York
BEGIN:STANDARD
TZNAME:EST
DTSTART:20231105T020000
TZOFFSETFROM:-0400
TZOFFSETTO:-0500
RDATE:20241103T020000
END:STANDARD
BEGIN:DAYLIGHT
TZNAME:EDT
DTSTART:20230312T020000
TZOFFSETFROM:-0500
TZOFFSETTO:-0400
RDATE:20240310T020000
RDATE:20250309T020000
END:DAYLIGHT
END:VTIMEZONE
BEGIN:VEVENT
UID:6445c61a-dc37-4a79-ac7b-6b2553fdcd96
DTSTAMP:20260421T221954Z
DESCRIPTION:As busy care partners\, it’s hard to find time to focus on your
  own health and well-being - especially when you’re navigating your caregi
 ver journey. Join us on the second and fourth Thursday of each month as we
  make time for ourselves!\n\nGuided meditation sessions for mind and body 
 can help you:\n\nObserve yourself comfortably with peace of mind\,\nReleas
 e your stress\, worries\, and negativity\,\nConnect your mind and body tog
 ether for energy and power\,\nStimulate your creativity and focus\,\nEnjoy
  more insight and optimism\, and\nRelax and sleep better!\n\nNo previous e
 xperience is required! Join us to develop a better ability to relax\, focu
 s\, and find peace of mind as you navigate your caregiving journey with de
 mentia.\n\n<b> This is the rescheduled 2nd session for November to makeup 
 for the 11/23 session falling on Thanksgiving! </b>\n\n\n\n<strong><a href
 ='https://insightmemory.app.neoncrm.com/eventReg.jsp?event=859&' class='bu
 tton'>Sign Me Up!</a></strong>\n\n<p></p>
DTSTART;TZID=America/New_York:20231130T190000
DTEND;TZID=America/New_York:20231130T200000
LOCATION:Virtual
SUMMARY:Meditation for Care Partners
END:VEVENT
END:VCALENDAR
