BEGIN:VCALENDAR
VERSION:2.0
PRODID:-//www.insightmcc.org//NONSGML kigkonsult.se iCalcreator 2.30.10//
CALSCALE:GREGORIAN
METHOD:PUBLISH
UID:fc009361-762f-4252-aa60-bd6a7c70741f
X-WR-CALDESC:Communication often becomes difficult as dementia progresses. 
 Learn skills that can help ease the frustration and lead to successful int
 eractions.
X-WR-RELCALID:2e8a1559846a54cdb0495c5dbb5009b2
X-WR-TIMEZONE:America/New_York
BEGIN:VTIMEZONE
TZID:America/New_York
BEGIN:STANDARD
TZNAME:EST
DTSTART:20231105T020000
TZOFFSETFROM:-0400
TZOFFSETTO:-0500
RDATE:20241103T020000
END:STANDARD
BEGIN:DAYLIGHT
TZNAME:EDT
DTSTART:20230312T020000
TZOFFSETFROM:-0500
TZOFFSETTO:-0400
RDATE:20240310T020000
RDATE:20250309T020000
END:DAYLIGHT
END:VTIMEZONE
BEGIN:VEVENT
UID:1b643f1e-d28f-46b4-96f7-826fc27e76cf
DTSTAMP:20260421T205554Z
DESCRIPTION:Communication often becomes difficult as dementia progresses. L
 earn skills that can help ease the frustration and lead to successful inte
 ractions.
DTSTART;TZID=America/New_York:20231207T143000
DTEND;TZID=America/New_York:20231207T153000
LOCATION:Green Acres Community Center\, 4401 Sideburn Road\, Fairfax\, VA 2
 2030 US
SUMMARY:Enhancing Communication with a Loved One
END:VEVENT
END:VCALENDAR
