BEGIN:VCALENDAR
VERSION:2.0
PRODID:-//www.insightmcc.org//NONSGML kigkonsult.se iCalcreator 2.30.10//
CALSCALE:GREGORIAN
METHOD:PUBLISH
UID:d6fac9e2-2131-4020-b758-dc2076336d16
X-WR-CALDESC:The holiday season is a time for family togetherness and heart
 warming moments. But\, if you’re a caregiver or loved one of an individual
  with dementia\, it can be overwhelming or difficult to know how to make t
 he most of celebrations and gatherings.\nWhether your loved one is living 
 at home or at a senior care community\, Melissa Long will share expert adv
 ice\, resources and ideas to help make holiday visits joyful and less stre
 ssful for all. She will share steps you can take to include your loved one
  to the greatest degree possible and will discuss:\n\n•Gift-giving suggest
 ions\n•Safety considerations\n•Strategies to improve connection\n•How to d
 raw from past traditions to create moments of pleasure\n•Recognizing and r
 esponding to signs of distress or fatigue\n•Self-care for caregivers\n\nTh
 e event includes an interactive demonstration of the latest and greatest i
 n gifts for loved ones with dementia. Attendees will be able to try out th
 ese gifts firsthand.\n\n
X-WR-RELCALID:8eac84c601992b45d6a40d5266ac3b01
X-WR-TIMEZONE:America/New_York
BEGIN:VTIMEZONE
TZID:America/New_York
BEGIN:STANDARD
TZNAME:EST
DTSTART:20231105T020000
TZOFFSETFROM:-0400
TZOFFSETTO:-0500
RDATE:20241103T020000
END:STANDARD
BEGIN:DAYLIGHT
TZNAME:EDT
DTSTART:20230312T020000
TZOFFSETFROM:-0500
TZOFFSETTO:-0400
RDATE:20240310T020000
RDATE:20250309T020000
END:DAYLIGHT
END:VTIMEZONE
BEGIN:VEVENT
UID:f1e3bbaf-8977-4745-a1ad-82121bedb4dc
DTSTAMP:20260421T211032Z
DESCRIPTION:The holiday season is a time for family togetherness and heartw
 arming moments. But\, if you’re a caregiver or loved one of an individual 
 with dementia\, it can be overwhelming or difficult to know how to make th
 e most of celebrations and gatherings.\nWhether your loved one is living a
 t home or at a senior care community\, Melissa Long will share expert advi
 ce\, resources and ideas to help make holiday visits joyful and less stres
 sful for all. She will share steps you can take to include your loved one 
 to the greatest degree possible and will discuss:\n\n•Gift-giving suggesti
 ons\n•Safety considerations\n•Strategies to improve connection\n•How to dr
 aw from past traditions to create moments of pleasure\n•Recognizing and re
 sponding to signs of distress or fatigue\n•Self-care for caregivers\n\nThe
  event includes an interactive demonstration of the latest and greatest in
  gifts for loved ones with dementia. Attendees will be able to try out the
 se gifts firsthand.\n\n
DTSTART;TZID=America/New_York:20231207T180000
DTEND;TZID=America/New_York:20231207T190000
LOCATION:The Kensington Falls Church\, 700 West Broad Street\, Falls Church
 \, VA 22046 US
SUMMARY:Making Spirits Bright: Joyful Visits & Gifting for Your Loved One w
 ith Dementia
END:VEVENT
END:VCALENDAR
