BEGIN:VCALENDAR
VERSION:2.0
PRODID:-//www.insightmcc.org//NONSGML kigkonsult.se iCalcreator 2.30.10//
CALSCALE:GREGORIAN
METHOD:PUBLISH
UID:2016cf15-6fbc-4da6-996b-8ab3927af012
X-WR-CALDESC:Learn the basics of dementia\, including Alzheimer’s disease a
 nd other dementias. While not everyone travels the same path\, come and le
 arn about the general stages to help you anticipate future changes.\n\nThi
 s program is presented by the Insight Memory Care Team at the Hollin Hall 
 Senior Center.
X-WR-RELCALID:967196e4e7ab901d8ae9026e22469921
X-WR-TIMEZONE:America/New_York
BEGIN:VTIMEZONE
TZID:America/New_York
BEGIN:STANDARD
TZNAME:EST
DTSTART:20231105T020000
TZOFFSETFROM:-0400
TZOFFSETTO:-0500
RDATE:20241103T020000
END:STANDARD
BEGIN:DAYLIGHT
TZNAME:EDT
DTSTART:20230312T020000
TZOFFSETFROM:-0500
TZOFFSETTO:-0400
RDATE:20240310T020000
RDATE:20250309T020000
END:DAYLIGHT
END:VTIMEZONE
BEGIN:VEVENT
UID:f2f5598a-c37e-42b3-bb47-44364448da08
DTSTAMP:20260421T213330Z
DESCRIPTION:Learn the basics of dementia\, including Alzheimer’s disease an
 d other dementias. While not everyone travels the same path\, come and lea
 rn about the general stages to help you anticipate future changes.\n\nThis
  program is presented by the Insight Memory Care Team at the Hollin Hall S
 enior Center.
DTSTART;TZID=America/New_York:20231215T130000
DTEND;TZID=America/New_York:20231215T140000
LOCATION:Hollin Hall Senior Center\, 1500 Shenandoah Rd\, Alexandria\, VA 2
 2032 US
SUMMARY:Dementia 101
END:VEVENT
END:VCALENDAR
