BEGIN:VCALENDAR
VERSION:2.0
PRODID:-//www.insightmcc.org//NONSGML kigkonsult.se iCalcreator 2.30.10//
CALSCALE:GREGORIAN
METHOD:PUBLISH
UID:7dc3ec48-11b8-4fe7-b669-b2a09cc38cd2
X-WR-CALDESC:This group is specifically designed for those who are caring f
 or a parent. Get to know others in this unique situation while sharing pra
 ctical caregiving tips\, personal concerns\, and celebrating successes wit
 h others in the same boat.\n\nThis group meets virtually on the third Tues
 day. All support groups are free and open to the public. Please register a
 nd you'll receive Zoom information to join!\n\n&nbsp\;\n<strong><a href='h
 ttps://insightmemory.app.neoncrm.com/eventReg.jsp?event=808&' target='_bla
 nk' class='button' rel='noreferrer noopener'>Sign Me Up!</a></strong>
X-WR-RELCALID:5c1039fa0b967ea77ce59c7ed38c9aa6
X-WR-TIMEZONE:America/New_York
BEGIN:VTIMEZONE
TZID:America/New_York
BEGIN:STANDARD
TZNAME:EST
DTSTART:20231105T020000
TZOFFSETFROM:-0400
TZOFFSETTO:-0500
RDATE:20241103T020000
END:STANDARD
BEGIN:DAYLIGHT
TZNAME:EDT
DTSTART:20230312T020000
TZOFFSETFROM:-0500
TZOFFSETTO:-0400
RDATE:20240310T020000
RDATE:20250309T020000
END:DAYLIGHT
END:VTIMEZONE
BEGIN:VEVENT
UID:fdb68222-c81a-496a-a42c-4d430d982a56
DTSTAMP:20260421T210730Z
DESCRIPTION:This group is specifically designed for those who are caring fo
 r a parent. Get to know others in this unique situation while sharing prac
 tical caregiving tips\, personal concerns\, and celebrating successes with
  others in the same boat.\n\nThis group meets virtually on the third Tuesd
 ay. All support groups are free and open to the public. Please register an
 d you'll receive Zoom information to join!\n\n&nbsp\;\n<strong><a href='ht
 tps://insightmemory.app.neoncrm.com/eventReg.jsp?event=808&' target='_blan
 k' class='button' rel='noreferrer noopener'>Sign Me Up!</a></strong>
DTSTART;TZID=America/New_York:20231219T190000
DTEND;TZID=America/New_York:20231219T203000
LOCATION:Virtual
SUMMARY:Caring for Your Parent Support Group
END:VEVENT
END:VCALENDAR
