BEGIN:VCALENDAR
VERSION:2.0
PRODID:-//www.insightmcc.org//NONSGML kigkonsult.se iCalcreator 2.30.10//
CALSCALE:GREGORIAN
METHOD:PUBLISH
UID:c1fc2fd6-36e6-4b33-a06a-108060a1ccc7
X-WR-CALDESC:Insight will be closed for Winter Holidays. Happy Holidays!
X-WR-RELCALID:4bc1d0aa156298e33e9c9b540e7510b1
X-WR-TIMEZONE:America/New_York
BEGIN:VTIMEZONE
TZID:America/New_York
BEGIN:STANDARD
TZNAME:EST
DTSTART:20231105T020000
TZOFFSETFROM:-0400
TZOFFSETTO:-0500
RDATE:20241103T020000
END:STANDARD
BEGIN:DAYLIGHT
TZNAME:EDT
DTSTART:20230312T020000
TZOFFSETFROM:-0500
TZOFFSETTO:-0400
RDATE:20240310T020000
RDATE:20250309T020000
END:DAYLIGHT
END:VTIMEZONE
BEGIN:VEVENT
UID:fdd5282e-e501-4666-9a3d-c8292ea960e4
DTSTAMP:20260421T205423Z
DESCRIPTION:Insight will be closed for Winter Holidays. Happy Holidays!
DTSTART;TZID=America/New_York:20231225T000000
DTEND;TZID=America/New_York:20231226T235900
LOCATION:
SUMMARY:Insight Closed
END:VEVENT
END:VCALENDAR
