BEGIN:VCALENDAR
VERSION:2.0
PRODID:-//www.insightmcc.org//NONSGML kigkonsult.se iCalcreator 2.30.10//
CALSCALE:GREGORIAN
METHOD:PUBLISH
UID:9f2c68c3-f4a4-49e7-9c18-6147cd06978d
X-WR-CALDESC:The caregiving journey is emotional\, long and winding. Our go
 al is to provide emotional and social support as well tips and strategies 
 to help caregivers on this journey. Light snacks and beverages will be pro
 vided.\n\nAs we aim to support more care partners along their dementia jou
 rney\, Insight partners with several community groups to offer additional 
 in-person support groups. All are free and open to the public.\n\n<b> Due 
 to the New Year's holiday this group will meet on Wednesday 1/3 in January
  </b>
X-WR-RELCALID:8d2b69445c649f7ce7a941fe276f2276
X-WR-TIMEZONE:America/New_York
BEGIN:VTIMEZONE
TZID:America/New_York
BEGIN:STANDARD
TZNAME:EST
DTSTART:20231105T020000
TZOFFSETFROM:-0400
TZOFFSETTO:-0500
RDATE:20241103T020000
END:STANDARD
BEGIN:DAYLIGHT
TZNAME:EDT
DTSTART:20230312T020000
TZOFFSETFROM:-0500
TZOFFSETTO:-0400
RDATE:20240310T020000
RDATE:20250309T020000
END:DAYLIGHT
END:VTIMEZONE
BEGIN:VEVENT
UID:6603c544-02bc-4c15-97db-1bea05c96acc
DTSTAMP:20260421T192949Z
DESCRIPTION:The caregiving journey is emotional\, long and winding. Our goa
 l is to provide emotional and social support as well tips and strategies t
 o help caregivers on this journey. Light snacks and beverages will be prov
 ided.\n\nAs we aim to support more care partners along their dementia jour
 ney\, Insight partners with several community groups to offer additional i
 n-person support groups. All are free and open to the public.\n\n<b> Due t
 o the New Year's holiday this group will meet on Wednesday 1/3 in January 
 </b>
DTSTART;TZID=America/New_York:20240103T173000
DTEND;TZID=America/New_York:20240103T183000
LOCATION:Chantilly Heights Memory Care\, 3925 Downs Drive\, Chantilly\, VA 
 20151 US
SUMMARY:Let's Talk Support Group
END:VEVENT
END:VCALENDAR
