BEGIN:VCALENDAR
VERSION:2.0
PRODID:-//www.insightmcc.org//NONSGML kigkonsult.se iCalcreator 2.30.10//
CALSCALE:GREGORIAN
METHOD:PUBLISH
UID:620928de-1550-49a0-abf7-1ef7e5c6d4c3
X-WR-CALDESC:All are welcome to attend this support group for family and fr
 iends of those with dementia and other memory impairments. This group allo
 ws care partners to problem-solve\, discuss issues\, and connect with each
  other regarding dementia in every-day life. This group will also include 
 practical resources and guest speakers throughout the year.\n\nThis group 
 meets virtually on the first and third Thursdays. All support groups are f
 ree and open to the public. Please register and you'll receive Zoom inform
 ation to join!\n\n&nbsp\;\n<strong><a href='https://insightmemory.app.neon
 crm.com/eventReg.jsp?event=783&' target='_blank' class='button' rel='noref
 errer noopener'>Sign Me Up!</a></strong>
X-WR-RELCALID:6f475666b20fd4fe669852a3df39e1d2
X-WR-TIMEZONE:America/New_York
BEGIN:VTIMEZONE
TZID:America/New_York
BEGIN:STANDARD
TZNAME:EST
DTSTART:20231105T020000
TZOFFSETFROM:-0400
TZOFFSETTO:-0500
RDATE:20241103T020000
END:STANDARD
BEGIN:DAYLIGHT
TZNAME:EDT
DTSTART:20230312T020000
TZOFFSETFROM:-0500
TZOFFSETTO:-0400
RDATE:20240310T020000
RDATE:20250309T020000
END:DAYLIGHT
END:VTIMEZONE
BEGIN:VEVENT
UID:f439b7a0-ccc7-42c9-ad97-48baa06884b8
DTSTAMP:20260421T194130Z
DESCRIPTION:All are welcome to attend this support group for family and fri
 ends of those with dementia and other memory impairments. This group allow
 s care partners to problem-solve\, discuss issues\, and connect with each 
 other regarding dementia in every-day life. This group will also include p
 ractical resources and guest speakers throughout the year.\n\nThis group m
 eets virtually on the first and third Thursdays. All support groups are fr
 ee and open to the public. Please register and you'll receive Zoom informa
 tion to join!\n\n&nbsp\;\n<strong><a href='https://insightmemory.app.neonc
 rm.com/eventReg.jsp?event=783&' target='_blank' class='button' rel='norefe
 rrer noopener'>Sign Me Up!</a></strong>
DTSTART;TZID=America/New_York:20240104T140000
DTEND;TZID=America/New_York:20240104T153000
LOCATION:Virtual
SUMMARY:Dementia Support Group
END:VEVENT
END:VCALENDAR
