BEGIN:VCALENDAR
VERSION:2.0
PRODID:-//www.insightmcc.org//NONSGML kigkonsult.se iCalcreator 2.30.10//
CALSCALE:GREGORIAN
METHOD:PUBLISH
UID:5286f145-ec68-4a73-9ceb-a83d3841b050
X-WR-CALDESC:For those with cognitive impairments\, sometimes the only form
  of communication provided is through behavior\, both positive and negativ
 e. Come and learn strategies for understanding and responding to difficult
  behaviors.\n\nThis program is presented by the Insight Memory Care Team a
 t the Green Acres Community Center.\n\n<b> Please reach out to Green Acres
  Community Center at (703) 293 7119 in order to sign up for this event. </
 b>
X-WR-RELCALID:6b1850148f36af52899bf1b8bedbc01d
X-WR-TIMEZONE:America/New_York
BEGIN:VTIMEZONE
TZID:America/New_York
BEGIN:STANDARD
TZNAME:EST
DTSTART:20231105T020000
TZOFFSETFROM:-0400
TZOFFSETTO:-0500
RDATE:20241103T020000
END:STANDARD
BEGIN:DAYLIGHT
TZNAME:EDT
DTSTART:20230312T020000
TZOFFSETFROM:-0500
TZOFFSETTO:-0400
RDATE:20240310T020000
RDATE:20250309T020000
END:DAYLIGHT
END:VTIMEZONE
BEGIN:VEVENT
UID:cb1dfd9f-75eb-40d0-8e95-079bc6fef8a0
DTSTAMP:20260421T194409Z
DESCRIPTION:For those with cognitive impairments\, sometimes the only form 
 of communication provided is through behavior\, both positive and negative
 . Come and learn strategies for understanding and responding to difficult 
 behaviors.\n\nThis program is presented by the Insight Memory Care Team at
  the Green Acres Community Center.\n\n<b> Please reach out to Green Acres 
 Community Center at (703) 293 7119 in order to sign up for this event. </b
 >
DTSTART;TZID=America/New_York:20240104T143000
DTEND;TZID=America/New_York:20240104T153000
LOCATION:Green Acres Community Center\, 4401 Sideburn Road\, Fairfax\, VA 2
 2030 US
SUMMARY:Are They Doing That on Purpose: Understanding Behaviors
END:VEVENT
END:VCALENDAR
