BEGIN:VCALENDAR
VERSION:2.0
PRODID:-//www.insightmcc.org//NONSGML kigkonsult.se iCalcreator 2.30.10//
CALSCALE:GREGORIAN
METHOD:PUBLISH
UID:8745d2d6-ce5e-4efc-80b4-0583ffe81c21
X-WR-CALDESC:The Arthritis Foundation Walk with Ease (WWE) program is desig
 ned to help people living with arthritis better manage their pain and is a
 lso ideal for people without arthritis who want to make walking a regular 
 habit. Led by a certified Arthritis Foundation Peer Leader\, this program 
 has been shown to reduce pain and increase balance and walking pace. With 
 the six weeks WWE program\, participants are encouraged to walk three time
 s a week.  \n\nIn the self-directed format\, participants read the WWE boo
 k and walk on their own. Offered at no cost to anyone who is a Virginia re
 sident and can be on their feet for 10 minutes without increased pain.
X-WR-RELCALID:2ea0006ccd6a255875f677a5779c28b7
X-WR-TIMEZONE:America/New_York
BEGIN:VTIMEZONE
TZID:America/New_York
BEGIN:STANDARD
TZNAME:EST
DTSTART:20231105T020000
TZOFFSETFROM:-0400
TZOFFSETTO:-0500
RDATE:20241103T020000
END:STANDARD
BEGIN:DAYLIGHT
TZNAME:EDT
DTSTART:20230312T020000
TZOFFSETFROM:-0500
TZOFFSETTO:-0400
RDATE:20240310T020000
RDATE:20250309T020000
END:DAYLIGHT
END:VTIMEZONE
BEGIN:VEVENT
UID:a0a6e408-7d68-4bf7-b936-762353f6a8a8
DTSTAMP:20260421T192838Z
DESCRIPTION:The Arthritis Foundation Walk with Ease (WWE) program is design
 ed to help people living with arthritis better manage their pain and is al
 so ideal for people without arthritis who want to make walking a regular h
 abit. Led by a certified Arthritis Foundation Peer Leader\, this program h
 as been shown to reduce pain and increase balance and walking pace. With t
 he six weeks WWE program\, participants are encouraged to walk three times
  a week.  \n\nIn the self-directed format\, participants read the WWE book
  and walk on their own. Offered at no cost to anyone who is a Virginia res
 ident and can be on their feet for 10 minutes without increased pain.
DTSTART;TZID=America/New_York:20240107T060000
DTEND;TZID=America/New_York:20240107T060001
LOCATION:https://www.vdh.virginia.gov/arthritis/walk-with-ease-program/
SUMMARY:Walk With Ease - Self Directed Program
END:VEVENT
END:VCALENDAR
