BEGIN:VCALENDAR
VERSION:2.0
PRODID:-//www.insightmcc.org//NONSGML kigkonsult.se iCalcreator 2.30.10//
CALSCALE:GREGORIAN
METHOD:PUBLISH
UID:d2fce700-3167-43c4-a3b2-284da2e7d576
X-WR-CALDESC:This group is specifically designed for care partners whose lo
 ved one has received a diagnosis of frontotemporal degeneration. Get to kn
 ow other families who are in a similar situation\, while also learning pra
 ctical caregiving tips and sharing personal concerns and successes.\n\nThi
 s group meets virtually on the first Tuesday. All support groups are free 
 and open to the public. Please register and you'll receive Zoom informatio
 n to join!\n\n<b> The January 2024 group will be held on 1/9 due to the Ne
 w Year's holiday falling on the first Tuesday of the month. </b>\n\n&nbsp\
 ;\n<strong><a href='https://insightmemory.app.neoncrm.com/eventReg.jsp?eve
 nt=798&' target='_blank' class='button' rel='noreferrer noopener'>Sign Me 
 Up!</a></strong>
X-WR-RELCALID:278c5e7e90afa018378e59397c279be5
X-WR-TIMEZONE:America/New_York
BEGIN:VTIMEZONE
TZID:America/New_York
BEGIN:STANDARD
TZNAME:EST
DTSTART:20231105T020000
TZOFFSETFROM:-0400
TZOFFSETTO:-0500
RDATE:20241103T020000
END:STANDARD
BEGIN:DAYLIGHT
TZNAME:EDT
DTSTART:20230312T020000
TZOFFSETFROM:-0500
TZOFFSETTO:-0400
RDATE:20240310T020000
RDATE:20250309T020000
END:DAYLIGHT
END:VTIMEZONE
BEGIN:VEVENT
UID:22e1a0e7-64f8-4403-bd67-4f036db9feba
DTSTAMP:20260421T194140Z
DESCRIPTION:This group is specifically designed for care partners whose lov
 ed one has received a diagnosis of frontotemporal degeneration. Get to kno
 w other families who are in a similar situation\, while also learning prac
 tical caregiving tips and sharing personal concerns and successes.\n\nThis
  group meets virtually on the first Tuesday. All support groups are free a
 nd open to the public. Please register and you'll receive Zoom information
  to join!\n\n<b> The January 2024 group will be held on 1/9 due to the New
  Year's holiday falling on the first Tuesday of the month. </b>\n\n&nbsp\;
 \n<strong><a href='https://insightmemory.app.neoncrm.com/eventReg.jsp?even
 t=798&' target='_blank' class='button' rel='noreferrer noopener'>Sign Me U
 p!</a></strong>
DTSTART;TZID=America/New_York:20240109T190000
DTEND;TZID=America/New_York:20240109T203000
LOCATION:Virtual
SUMMARY:FTD Caregiver Support Group
END:VEVENT
END:VCALENDAR
