BEGIN:VCALENDAR
VERSION:2.0
PRODID:-//www.insightmcc.org//NONSGML kigkonsult.se iCalcreator 2.30.10//
CALSCALE:GREGORIAN
METHOD:PUBLISH
UID:1975adad-86fb-4ff3-b353-13b0a7851e7d
X-WR-CALDESC:This group is specifically designed for care partners whose lo
 ved one has received a recent diagnosis of dementia or is in the early sta
 ges of the disease. Get to know other families who are in a similar situat
 ion\, while also learning caregiving tips and sharing personal concerns an
 d successes.\n\nThis group meets at Insight - Sterling on the second Tuesd
 ay. All support groups are free and open to the public. Please register an
 d you'll receive reminders to join us!\n\n<b> The 1/9 group will meet virt
 ually due to inclement weather\, if you are already registered for the gro
 up you will have received a Zoom link via email\, please reach out to supp
 ort@insightmcc.org to request the Zoom link.</b>\n\n&nbsp\;\n<strong><a hr
 ef='https://insightmemory.app.neoncrm.com/eventReg.jsp?event=818&' target=
 '_blank' class='button' rel='noreferrer noopener'>Sign Me Up!</a></strong>
X-WR-RELCALID:44e2f01114574c1fa1524a8fabe55e77
X-WR-TIMEZONE:America/New_York
BEGIN:VTIMEZONE
TZID:America/New_York
BEGIN:STANDARD
TZNAME:EST
DTSTART:20231105T020000
TZOFFSETFROM:-0400
TZOFFSETTO:-0500
RDATE:20241103T020000
END:STANDARD
BEGIN:DAYLIGHT
TZNAME:EDT
DTSTART:20230312T020000
TZOFFSETFROM:-0500
TZOFFSETTO:-0400
RDATE:20240310T020000
RDATE:20250309T020000
END:DAYLIGHT
END:VTIMEZONE
BEGIN:VEVENT
UID:10e5557d-72c7-439f-8c76-7cd95efcd9f1
DTSTAMP:20260421T194359Z
DESCRIPTION:This group is specifically designed for care partners whose lov
 ed one has received a recent diagnosis of dementia or is in the early stag
 es of the disease. Get to know other families who are in a similar situati
 on\, while also learning caregiving tips and sharing personal concerns and
  successes.\n\nThis group meets at Insight - Sterling on the second Tuesda
 y. All support groups are free and open to the public. Please register and
  you'll receive reminders to join us!\n\n<b> The 1/9 group will meet virtu
 ally due to inclement weather\, if you are already registered for the grou
 p you will have received a Zoom link via email\, please reach out to suppo
 rt@insightmcc.org to request the Zoom link.</b>\n\n&nbsp\;\n<strong><a hre
 f='https://insightmemory.app.neoncrm.com/eventReg.jsp?event=818&' target='
 _blank' class='button' rel='noreferrer noopener'>Sign Me Up!</a></strong>
DTSTART;TZID=America/New_York:20240109T190000
DTEND;TZID=America/New_York:20240109T203000
LOCATION:Insight Memory Care Center - Sterling\, 45945 Center Oak Plaza\, S
 uite 190\, Sterling\, VA 20166 US
SUMMARY:MCI Care Partner Support Group
END:VEVENT
END:VCALENDAR
