BEGIN:VCALENDAR
VERSION:2.0
PRODID:-//www.insightmcc.org//NONSGML kigkonsult.se iCalcreator 2.30.10//
CALSCALE:GREGORIAN
METHOD:PUBLISH
UID:20e4557a-33ae-47eb-9e01-bcc070401c67
X-WR-CALDESC:Worried about your loved ones falling victim to fraud? America
 ns over 60 are increasingly falling victim to crimes of fraud perpetrated 
 online and over the phone at rates that add up to billions in losses each 
 year\, and federal investigators are warning that the scammers are becomin
 g more sophisticated in the ploys they use to get their victims to hand ov
 er large sums of money. We will discuss the connection between elder fraud
  and other schemes. The presentation will include examples of social engin
 eering scams\, how to avoid falling victim to fraud\, and the steps someon
 e should take if they have been victimized. We will also touch on a brief 
 overview of the Internet Crime Complaint Center (IC3) and the Financial Fr
 aud Kill Chain (FFKC).\n\n\n<b>This class will be held both virtually and 
 in-person in Fairfax. </b> Please select your attendance type when you reg
 ister.\n\nIn-person attendance in Fairfax is limited to 20 participants. T
 he session will be held in the Mazawey Education and Support Center\, 3955
  Pender Drive\, Suite 100\, Fairfax\, VA 22030.\nVirtual attendees will re
 ceive Zoom information prior to the class.\n\nThis program is a part of ou
 r monthly Care Partner Training series. All sessions are FREE\, and held t
 he second Wednesday of each month from 1:00 to 2:30 pm.\n\n\n<b> Presenter
 </b>\n<em>Special Agent Gregory Settducati</em>\nGreg Settducati became a 
 FBI Special Agent (SA) in 2012 and was assigned to the Washington Field Of
 fice (WFO). From 2012-2017\, SA Settducati worked national security invest
 igations\, after which he transferred to WFO’s Transnational Organized Cri
 me squad. SA Settducati led multiple criminal enterprise investigations wi
 th a financial fraud focus\, and was a recipient of the 2020 Public Servic
 e Award presented by the U.S. Attorney’s Office for the Eastern District o
 f Virginia. In 2020\, SA Settducati was promoted to a supervisory position
  and served as a liaison to a multi-agency center focused on combatting Tr
 ansnational Organized Crime. In 2022\, SA Settducati was selected as the s
 upervisor for one of WFO’s financial crime squads with a specific focus on
  corporate fraud\, intellectual property rights\, as well as other fraud m
 atters.\n\n&nbsp\;\n<strong><a href='https://insightmemory.app.neoncrm.com
 /eventReg.jsp?event=1133&' class='button'>Sign Me Up - In Person</a></stro
 ng>\n\n<strong><a href='https://insightmemory.app.neoncrm.com/eventReg.jsp
 ?event=1138&' class='button'>Sign Me Up - Virtual</a></strong>
X-WR-RELCALID:96962669d393d90ac3f73d8255394889
X-WR-TIMEZONE:America/New_York
BEGIN:VTIMEZONE
TZID:America/New_York
BEGIN:STANDARD
TZNAME:EST
DTSTART:20231105T020000
TZOFFSETFROM:-0400
TZOFFSETTO:-0500
RDATE:20241103T020000
END:STANDARD
BEGIN:DAYLIGHT
TZNAME:EDT
DTSTART:20230312T020000
TZOFFSETFROM:-0500
TZOFFSETTO:-0400
RDATE:20240310T020000
RDATE:20250309T020000
END:DAYLIGHT
END:VTIMEZONE
BEGIN:VEVENT
UID:8034b5e3-7340-4593-9387-a74b44e9b1e6
DTSTAMP:20260421T194322Z
DESCRIPTION:Worried about your loved ones falling victim to fraud? American
 s over 60 are increasingly falling victim to crimes of fraud perpetrated o
 nline and over the phone at rates that add up to billions in losses each y
 ear\, and federal investigators are warning that the scammers are becoming
  more sophisticated in the ploys they use to get their victims to hand ove
 r large sums of money. We will discuss the connection between elder fraud 
 and other schemes. The presentation will include examples of social engine
 ering scams\, how to avoid falling victim to fraud\, and the steps someone
  should take if they have been victimized. We will also touch on a brief o
 verview of the Internet Crime Complaint Center (IC3) and the Financial Fra
 ud Kill Chain (FFKC).\n\n\n<b>This class will be held both virtually and i
 n-person in Fairfax. </b> Please select your attendance type when you regi
 ster.\n\nIn-person attendance in Fairfax is limited to 20 participants. Th
 e session will be held in the Mazawey Education and Support Center\, 3955 
 Pender Drive\, Suite 100\, Fairfax\, VA 22030.\nVirtual attendees will rec
 eive Zoom information prior to the class.\n\nThis program is a part of our
  monthly Care Partner Training series. All sessions are FREE\, and held th
 e second Wednesday of each month from 1:00 to 2:30 pm.\n\n\n<b> Presenter<
 /b>\n<em>Special Agent Gregory Settducati</em>\nGreg Settducati became a F
 BI Special Agent (SA) in 2012 and was assigned to the Washington Field Off
 ice (WFO). From 2012-2017\, SA Settducati worked national security investi
 gations\, after which he transferred to WFO’s Transnational Organized Crim
 e squad. SA Settducati led multiple criminal enterprise investigations wit
 h a financial fraud focus\, and was a recipient of the 2020 Public Service
  Award presented by the U.S. Attorney’s Office for the Eastern District of
  Virginia. In 2020\, SA Settducati was promoted to a supervisory position 
 and served as a liaison to a multi-agency center focused on combatting Tra
 nsnational Organized Crime. In 2022\, SA Settducati was selected as the su
 pervisor for one of WFO’s financial crime squads with a specific focus on 
 corporate fraud\, intellectual property rights\, as well as other fraud ma
 tters.\n\n&nbsp\;\n<strong><a href='https://insightmemory.app.neoncrm.com/
 eventReg.jsp?event=1133&' class='button'>Sign Me Up - In Person</a></stron
 g>\n\n<strong><a href='https://insightmemory.app.neoncrm.com/eventReg.jsp?
 event=1138&' class='button'>Sign Me Up - Virtual</a></strong>
DTSTART;TZID=America/New_York:20240110T130000
DTEND;TZID=America/New_York:20240110T143000
LOCATION:Hybrid! Virtual and in-person at Insight Memory Care Center - Fair
 fax
SUMMARY:Elder Fraud Prevention
END:VEVENT
END:VCALENDAR
